BEGIN:VCALENDAR
VERSION:2.0
PRODID:-//Bolton School Sports Leisure Services - ECPv6.15.15//NONSGML v1.0//EN
CALSCALE:GREGORIAN
METHOD:PUBLISH
X-ORIGINAL-URL:https://www.bssleisure.com
X-WR-CALDESC:Events for Bolton School Sports Leisure Services
REFRESH-INTERVAL;VALUE=DURATION:PT1H
X-Robots-Tag:noindex
X-PUBLISHED-TTL:PT1H
BEGIN:VTIMEZONE
TZID:Europe/London
BEGIN:DAYLIGHT
TZOFFSETFROM:+0000
TZOFFSETTO:+0100
TZNAME:BST
DTSTART:20170326T010000
END:DAYLIGHT
BEGIN:STANDARD
TZOFFSETFROM:+0100
TZOFFSETTO:+0000
TZNAME:GMT
DTSTART:20171029T010000
END:STANDARD
BEGIN:DAYLIGHT
TZOFFSETFROM:+0000
TZOFFSETTO:+0100
TZNAME:BST
DTSTART:20180325T010000
END:DAYLIGHT
BEGIN:STANDARD
TZOFFSETFROM:+0100
TZOFFSETTO:+0000
TZNAME:GMT
DTSTART:20181028T010000
END:STANDARD
BEGIN:DAYLIGHT
TZOFFSETFROM:+0000
TZOFFSETTO:+0100
TZNAME:BST
DTSTART:20190331T010000
END:DAYLIGHT
BEGIN:STANDARD
TZOFFSETFROM:+0100
TZOFFSETTO:+0000
TZNAME:GMT
DTSTART:20191027T010000
END:STANDARD
BEGIN:DAYLIGHT
TZOFFSETFROM:+0000
TZOFFSETTO:+0100
TZNAME:BST
DTSTART:20200329T010000
END:DAYLIGHT
BEGIN:STANDARD
TZOFFSETFROM:+0100
TZOFFSETTO:+0000
TZNAME:GMT
DTSTART:20201025T010000
END:STANDARD
BEGIN:DAYLIGHT
TZOFFSETFROM:+0000
TZOFFSETTO:+0100
TZNAME:BST
DTSTART:20210328T010000
END:DAYLIGHT
BEGIN:STANDARD
TZOFFSETFROM:+0100
TZOFFSETTO:+0000
TZNAME:GMT
DTSTART:20211031T010000
END:STANDARD
BEGIN:DAYLIGHT
TZOFFSETFROM:+0000
TZOFFSETTO:+0100
TZNAME:BST
DTSTART:20220327T010000
END:DAYLIGHT
BEGIN:STANDARD
TZOFFSETFROM:+0100
TZOFFSETTO:+0000
TZNAME:GMT
DTSTART:20221030T010000
END:STANDARD
BEGIN:DAYLIGHT
TZOFFSETFROM:+0000
TZOFFSETTO:+0100
TZNAME:BST
DTSTART:20230326T010000
END:DAYLIGHT
BEGIN:STANDARD
TZOFFSETFROM:+0100
TZOFFSETTO:+0000
TZNAME:GMT
DTSTART:20231029T010000
END:STANDARD
END:VTIMEZONE
BEGIN:VEVENT
DTSTART;TZID=Europe/London:20220408T080000
DTEND;TZID=Europe/London:20220412T170000
DTSTAMP:20260420T012113
CREATED:20161109T175433Z
LAST-MODIFIED:20220317T132613Z
UID:10001975-1649404800-1649782800@www.bssleisure.com
SUMMARY:National Pool Lifeguard Qualification
DESCRIPTION:The NPLQ covers all elements of Pool Rescue Techniques\, Lifeguarding Theory\, First Aid and CPR. The course is physically demanding and will include swimming to set times\, lifting casualties and diving to the deepest part of the swimming pool. \n					\nBenefits:					\n\n\nLearn Water Based First Aid\nGain Pool Rescue Knowledge\nConfidence delivering CPR\n\n\n					\nPricing Plans:					\n\n\n\nPer Candidate\n–\n£250\n\n\n\n					\nInstructors:					\n\n		\n								\n		\n		\n							Emma Conway					\n							info@bssleisure.com\n							Tel: 01204 434797
URL:https://www.bssleisure.com/events/national-pool-lifeguard-qualification-4/2022-04-08/
LOCATION:Bolton School Sports Complex\, Bolton School\, Chorley New Road\, Bolton\, Lancashire\, BL1 4PA\, United Kingdom
CATEGORIES:National Pool Lifeguard Qualification
ATTACH;FMTTYPE=image/png:https://www.bssleisure.com/wp-content/uploads/2016/11/Rookie-Lifeguard.png
ORGANIZER;CN="BSS Leisure":MAILTO:info@bssleisure.com
GEO:53.5795607;-2.455146
X-APPLE-STRUCTURED-LOCATION;VALUE=URI;X-ADDRESS=Bolton School Sports Complex Bolton School Chorley New Road Bolton Lancashire BL1 4PA United Kingdom;X-APPLE-RADIUS=500;X-TITLE=Bolton School\, Chorley New Road:geo:-2.455146,53.5795607
END:VEVENT
BEGIN:VEVENT
DTSTART;TZID=Europe/London:20220407T080000
DTEND;TZID=Europe/London:20220411T170000
DTSTAMP:20260420T012113
CREATED:20161109T175433Z
LAST-MODIFIED:20220317T132613Z
UID:10001974-1649318400-1649696400@www.bssleisure.com
SUMMARY:National Pool Lifeguard Qualification
DESCRIPTION:The NPLQ covers all elements of Pool Rescue Techniques\, Lifeguarding Theory\, First Aid and CPR. The course is physically demanding and will include swimming to set times\, lifting casualties and diving to the deepest part of the swimming pool. \n					\nBenefits:					\n\n\nLearn Water Based First Aid\nGain Pool Rescue Knowledge\nConfidence delivering CPR\n\n\n					\nPricing Plans:					\n\n\n\nPer Candidate\n–\n£250\n\n\n\n					\nInstructors:					\n\n		\n								\n		\n		\n							Emma Conway					\n							info@bssleisure.com\n							Tel: 01204 434797
URL:https://www.bssleisure.com/events/national-pool-lifeguard-qualification-4/2022-04-07/
LOCATION:Bolton School Sports Complex\, Bolton School\, Chorley New Road\, Bolton\, Lancashire\, BL1 4PA\, United Kingdom
CATEGORIES:National Pool Lifeguard Qualification
ATTACH;FMTTYPE=image/png:https://www.bssleisure.com/wp-content/uploads/2016/11/Rookie-Lifeguard.png
ORGANIZER;CN="BSS Leisure":MAILTO:info@bssleisure.com
GEO:53.5795607;-2.455146
X-APPLE-STRUCTURED-LOCATION;VALUE=URI;X-ADDRESS=Bolton School Sports Complex Bolton School Chorley New Road Bolton Lancashire BL1 4PA United Kingdom;X-APPLE-RADIUS=500;X-TITLE=Bolton School\, Chorley New Road:geo:-2.455146,53.5795607
END:VEVENT
BEGIN:VEVENT
DTSTART;TZID=Europe/London:20220406T080000
DTEND;TZID=Europe/London:20220410T170000
DTSTAMP:20260420T012113
CREATED:20161109T175433Z
LAST-MODIFIED:20220317T132613Z
UID:10001973-1649232000-1649610000@www.bssleisure.com
SUMMARY:National Pool Lifeguard Qualification
DESCRIPTION:The NPLQ covers all elements of Pool Rescue Techniques\, Lifeguarding Theory\, First Aid and CPR. The course is physically demanding and will include swimming to set times\, lifting casualties and diving to the deepest part of the swimming pool. \n					\nBenefits:					\n\n\nLearn Water Based First Aid\nGain Pool Rescue Knowledge\nConfidence delivering CPR\n\n\n					\nPricing Plans:					\n\n\n\nPer Candidate\n–\n£250\n\n\n\n					\nInstructors:					\n\n		\n								\n		\n		\n							Emma Conway					\n							info@bssleisure.com\n							Tel: 01204 434797
URL:https://www.bssleisure.com/events/national-pool-lifeguard-qualification-4/2022-04-06/
LOCATION:Bolton School Sports Complex\, Bolton School\, Chorley New Road\, Bolton\, Lancashire\, BL1 4PA\, United Kingdom
CATEGORIES:National Pool Lifeguard Qualification
ATTACH;FMTTYPE=image/png:https://www.bssleisure.com/wp-content/uploads/2016/11/Rookie-Lifeguard.png
ORGANIZER;CN="BSS Leisure":MAILTO:info@bssleisure.com
GEO:53.5795607;-2.455146
X-APPLE-STRUCTURED-LOCATION;VALUE=URI;X-ADDRESS=Bolton School Sports Complex Bolton School Chorley New Road Bolton Lancashire BL1 4PA United Kingdom;X-APPLE-RADIUS=500;X-TITLE=Bolton School\, Chorley New Road:geo:-2.455146,53.5795607
END:VEVENT
BEGIN:VEVENT
DTSTART;TZID=Europe/London:20220405T080000
DTEND;TZID=Europe/London:20220409T170000
DTSTAMP:20260420T012113
CREATED:20161109T175433Z
LAST-MODIFIED:20220317T132613Z
UID:10001972-1649145600-1649523600@www.bssleisure.com
SUMMARY:National Pool Lifeguard Qualification
DESCRIPTION:The NPLQ covers all elements of Pool Rescue Techniques\, Lifeguarding Theory\, First Aid and CPR. The course is physically demanding and will include swimming to set times\, lifting casualties and diving to the deepest part of the swimming pool. \n					\nBenefits:					\n\n\nLearn Water Based First Aid\nGain Pool Rescue Knowledge\nConfidence delivering CPR\n\n\n					\nPricing Plans:					\n\n\n\nPer Candidate\n–\n£250\n\n\n\n					\nInstructors:					\n\n		\n								\n		\n		\n							Emma Conway					\n							info@bssleisure.com\n							Tel: 01204 434797
URL:https://www.bssleisure.com/events/national-pool-lifeguard-qualification-4/2022-04-05/
LOCATION:Bolton School Sports Complex\, Bolton School\, Chorley New Road\, Bolton\, Lancashire\, BL1 4PA\, United Kingdom
CATEGORIES:National Pool Lifeguard Qualification
ATTACH;FMTTYPE=image/png:https://www.bssleisure.com/wp-content/uploads/2016/11/Rookie-Lifeguard.png
ORGANIZER;CN="BSS Leisure":MAILTO:info@bssleisure.com
GEO:53.5795607;-2.455146
X-APPLE-STRUCTURED-LOCATION;VALUE=URI;X-ADDRESS=Bolton School Sports Complex Bolton School Chorley New Road Bolton Lancashire BL1 4PA United Kingdom;X-APPLE-RADIUS=500;X-TITLE=Bolton School\, Chorley New Road:geo:-2.455146,53.5795607
END:VEVENT
BEGIN:VEVENT
DTSTART;TZID=Europe/London:20220404T080000
DTEND;TZID=Europe/London:20220408T170000
DTSTAMP:20260420T012113
CREATED:20161109T175433Z
LAST-MODIFIED:20220317T132613Z
UID:10001971-1649059200-1649437200@www.bssleisure.com
SUMMARY:National Pool Lifeguard Qualification
DESCRIPTION:The NPLQ covers all elements of Pool Rescue Techniques\, Lifeguarding Theory\, First Aid and CPR. The course is physically demanding and will include swimming to set times\, lifting casualties and diving to the deepest part of the swimming pool. \n					\nBenefits:					\n\n\nLearn Water Based First Aid\nGain Pool Rescue Knowledge\nConfidence delivering CPR\n\n\n					\nPricing Plans:					\n\n\n\nPer Candidate\n–\n£250\n\n\n\n					\nInstructors:					\n\n		\n								\n		\n		\n							Emma Conway					\n							info@bssleisure.com\n							Tel: 01204 434797
URL:https://www.bssleisure.com/events/national-pool-lifeguard-qualification-4/2022-04-04/
LOCATION:Bolton School Sports Complex\, Bolton School\, Chorley New Road\, Bolton\, Lancashire\, BL1 4PA\, United Kingdom
CATEGORIES:National Pool Lifeguard Qualification
ATTACH;FMTTYPE=image/png:https://www.bssleisure.com/wp-content/uploads/2016/11/Rookie-Lifeguard.png
ORGANIZER;CN="BSS Leisure":MAILTO:info@bssleisure.com
GEO:53.5795607;-2.455146
X-APPLE-STRUCTURED-LOCATION;VALUE=URI;X-ADDRESS=Bolton School Sports Complex Bolton School Chorley New Road Bolton Lancashire BL1 4PA United Kingdom;X-APPLE-RADIUS=500;X-TITLE=Bolton School\, Chorley New Road:geo:-2.455146,53.5795607
END:VEVENT
BEGIN:VEVENT
DTSTART;TZID=Europe/London:20220218T080000
DTEND;TZID=Europe/London:20220218T170000
DTSTAMP:20260420T012113
CREATED:20170120T141222Z
LAST-MODIFIED:20220317T132838Z
UID:10000037-1645171200-1645203600@www.bssleisure.com
SUMMARY:National Pool Lifeguard Qualification
DESCRIPTION:The NPLQ covers all elements of Pool Rescue Techniques\, Lifeguarding Theory\, First Aid and CPR. The course is physically demanding and will include swimming to set times\, lifting casualties and diving to the deepest part of the swimming pool. \n					\nBenefits:					\n\n\nLearn Water Based First Aid\nGain Pool Rescue Knowledge\nConfidence delivering CPR\n\n\n					\nPricing Plans:					\n\n\n\nPer Candidate\n–\n£250\n\n\n\n					\nInstructors:					\n\n		\n								\n		\n		\n							Emma Conway					\n							info@bssleisure.com\n							Tel: 01204 434797
URL:https://www.bssleisure.com/events/national-pool-lifeguard-qualification-3/2022-02-18/
LOCATION:Bolton School Sports Complex\, Bolton School\, Chorley New Road\, Bolton\, Lancashire\, BL1 4PA\, United Kingdom
CATEGORIES:National Pool Lifeguard Qualification
ATTACH;FMTTYPE=image/png:https://www.bssleisure.com/wp-content/uploads/2016/11/Rookie-Lifeguard.png
ORGANIZER;CN="BSS Leisure":MAILTO:info@bssleisure.com
GEO:53.5795607;-2.455146
X-APPLE-STRUCTURED-LOCATION;VALUE=URI;X-ADDRESS=Bolton School Sports Complex Bolton School Chorley New Road Bolton Lancashire BL1 4PA United Kingdom;X-APPLE-RADIUS=500;X-TITLE=Bolton School\, Chorley New Road:geo:-2.455146,53.5795607
END:VEVENT
BEGIN:VEVENT
DTSTART;TZID=Europe/London:20220217T080000
DTEND;TZID=Europe/London:20220217T170000
DTSTAMP:20260420T012113
CREATED:20170120T141222Z
LAST-MODIFIED:20220317T132838Z
UID:10000036-1645084800-1645117200@www.bssleisure.com
SUMMARY:National Pool Lifeguard Qualification
DESCRIPTION:The NPLQ covers all elements of Pool Rescue Techniques\, Lifeguarding Theory\, First Aid and CPR. The course is physically demanding and will include swimming to set times\, lifting casualties and diving to the deepest part of the swimming pool. \n					\nBenefits:					\n\n\nLearn Water Based First Aid\nGain Pool Rescue Knowledge\nConfidence delivering CPR\n\n\n					\nPricing Plans:					\n\n\n\nPer Candidate\n–\n£250\n\n\n\n					\nInstructors:					\n\n		\n								\n		\n		\n							Emma Conway					\n							info@bssleisure.com\n							Tel: 01204 434797
URL:https://www.bssleisure.com/events/national-pool-lifeguard-qualification-3/2022-02-17/
LOCATION:Bolton School Sports Complex\, Bolton School\, Chorley New Road\, Bolton\, Lancashire\, BL1 4PA\, United Kingdom
CATEGORIES:National Pool Lifeguard Qualification
ATTACH;FMTTYPE=image/png:https://www.bssleisure.com/wp-content/uploads/2016/11/Rookie-Lifeguard.png
ORGANIZER;CN="BSS Leisure":MAILTO:info@bssleisure.com
GEO:53.5795607;-2.455146
X-APPLE-STRUCTURED-LOCATION;VALUE=URI;X-ADDRESS=Bolton School Sports Complex Bolton School Chorley New Road Bolton Lancashire BL1 4PA United Kingdom;X-APPLE-RADIUS=500;X-TITLE=Bolton School\, Chorley New Road:geo:-2.455146,53.5795607
END:VEVENT
BEGIN:VEVENT
DTSTART;TZID=Europe/London:20220216T080000
DTEND;TZID=Europe/London:20220216T170000
DTSTAMP:20260420T012113
CREATED:20170120T141222Z
LAST-MODIFIED:20220317T132838Z
UID:10000035-1644998400-1645030800@www.bssleisure.com
SUMMARY:National Pool Lifeguard Qualification
DESCRIPTION:The NPLQ covers all elements of Pool Rescue Techniques\, Lifeguarding Theory\, First Aid and CPR. The course is physically demanding and will include swimming to set times\, lifting casualties and diving to the deepest part of the swimming pool. \n					\nBenefits:					\n\n\nLearn Water Based First Aid\nGain Pool Rescue Knowledge\nConfidence delivering CPR\n\n\n					\nPricing Plans:					\n\n\n\nPer Candidate\n–\n£250\n\n\n\n					\nInstructors:					\n\n		\n								\n		\n		\n							Emma Conway					\n							info@bssleisure.com\n							Tel: 01204 434797
URL:https://www.bssleisure.com/events/national-pool-lifeguard-qualification-3/2022-02-16/
LOCATION:Bolton School Sports Complex\, Bolton School\, Chorley New Road\, Bolton\, Lancashire\, BL1 4PA\, United Kingdom
CATEGORIES:National Pool Lifeguard Qualification
ATTACH;FMTTYPE=image/png:https://www.bssleisure.com/wp-content/uploads/2016/11/Rookie-Lifeguard.png
ORGANIZER;CN="BSS Leisure":MAILTO:info@bssleisure.com
GEO:53.5795607;-2.455146
X-APPLE-STRUCTURED-LOCATION;VALUE=URI;X-ADDRESS=Bolton School Sports Complex Bolton School Chorley New Road Bolton Lancashire BL1 4PA United Kingdom;X-APPLE-RADIUS=500;X-TITLE=Bolton School\, Chorley New Road:geo:-2.455146,53.5795607
END:VEVENT
BEGIN:VEVENT
DTSTART;TZID=Europe/London:20220215T080000
DTEND;TZID=Europe/London:20220215T170000
DTSTAMP:20260420T012113
CREATED:20170120T141222Z
LAST-MODIFIED:20220317T132838Z
UID:10000034-1644912000-1644944400@www.bssleisure.com
SUMMARY:National Pool Lifeguard Qualification
DESCRIPTION:The NPLQ covers all elements of Pool Rescue Techniques\, Lifeguarding Theory\, First Aid and CPR. The course is physically demanding and will include swimming to set times\, lifting casualties and diving to the deepest part of the swimming pool. \n					\nBenefits:					\n\n\nLearn Water Based First Aid\nGain Pool Rescue Knowledge\nConfidence delivering CPR\n\n\n					\nPricing Plans:					\n\n\n\nPer Candidate\n–\n£250\n\n\n\n					\nInstructors:					\n\n		\n								\n		\n		\n							Emma Conway					\n							info@bssleisure.com\n							Tel: 01204 434797
URL:https://www.bssleisure.com/events/national-pool-lifeguard-qualification-3/2022-02-15/
LOCATION:Bolton School Sports Complex\, Bolton School\, Chorley New Road\, Bolton\, Lancashire\, BL1 4PA\, United Kingdom
CATEGORIES:National Pool Lifeguard Qualification
ATTACH;FMTTYPE=image/png:https://www.bssleisure.com/wp-content/uploads/2016/11/Rookie-Lifeguard.png
ORGANIZER;CN="BSS Leisure":MAILTO:info@bssleisure.com
GEO:53.5795607;-2.455146
X-APPLE-STRUCTURED-LOCATION;VALUE=URI;X-ADDRESS=Bolton School Sports Complex Bolton School Chorley New Road Bolton Lancashire BL1 4PA United Kingdom;X-APPLE-RADIUS=500;X-TITLE=Bolton School\, Chorley New Road:geo:-2.455146,53.5795607
END:VEVENT
BEGIN:VEVENT
DTSTART;TZID=Europe/London:20220214T080000
DTEND;TZID=Europe/London:20220214T170000
DTSTAMP:20260420T012113
CREATED:20170120T141222Z
LAST-MODIFIED:20220317T132838Z
UID:10000033-1644825600-1644858000@www.bssleisure.com
SUMMARY:National Pool Lifeguard Qualification
DESCRIPTION:The NPLQ covers all elements of Pool Rescue Techniques\, Lifeguarding Theory\, First Aid and CPR. The course is physically demanding and will include swimming to set times\, lifting casualties and diving to the deepest part of the swimming pool. \n					\nBenefits:					\n\n\nLearn Water Based First Aid\nGain Pool Rescue Knowledge\nConfidence delivering CPR\n\n\n					\nPricing Plans:					\n\n\n\nPer Candidate\n–\n£250\n\n\n\n					\nInstructors:					\n\n		\n								\n		\n		\n							Emma Conway					\n							info@bssleisure.com\n							Tel: 01204 434797
URL:https://www.bssleisure.com/events/national-pool-lifeguard-qualification-3/2022-02-14/
LOCATION:Bolton School Sports Complex\, Bolton School\, Chorley New Road\, Bolton\, Lancashire\, BL1 4PA\, United Kingdom
CATEGORIES:National Pool Lifeguard Qualification
ATTACH;FMTTYPE=image/png:https://www.bssleisure.com/wp-content/uploads/2016/11/Rookie-Lifeguard.png
ORGANIZER;CN="BSS Leisure":MAILTO:info@bssleisure.com
GEO:53.5795607;-2.455146
X-APPLE-STRUCTURED-LOCATION;VALUE=URI;X-ADDRESS=Bolton School Sports Complex Bolton School Chorley New Road Bolton Lancashire BL1 4PA United Kingdom;X-APPLE-RADIUS=500;X-TITLE=Bolton School\, Chorley New Road:geo:-2.455146,53.5795607
END:VEVENT
BEGIN:VEVENT
DTSTART;TZID=Europe/London:20211029T080000
DTEND;TZID=Europe/London:20211029T170000
DTSTAMP:20260420T012113
CREATED:20171108T104053Z
LAST-MODIFIED:20220317T132749Z
UID:10003407-1635494400-1635526800@www.bssleisure.com
SUMMARY:National Pool Lifeguard Qualification
DESCRIPTION:The NPLQ covers all elements of Pool Rescue Techniques\, Lifeguarding Theory\, First Aid and CPR. The course is physically demanding and will include swimming to set times\, lifting casualties and diving to the deepest part of the swimming po \n					\nBenefits:					\n\n\nLearn Water Based First Aid\nGain Pool Rescue Knowledge\nConfidence delivering CPR\n\n\n					\nPricing Plans:					\n\n\n\nPer Candidate\n–\n£250\n\n\n\n		\n							\n						\n				\nInstructors:			\n			\n					\n	\n\n		\n								\n		\n		\n							Lucy Brogan					\n							info@bssleisure.com\n							01204 434797
URL:https://www.bssleisure.com/events/national-pool-lifeguard-qualification-5/2021-10-29/
LOCATION:Bolton School Sports Complex\, Bolton School\, Chorley New Road\, Bolton\, Lancashire\, BL1 4PA\, United Kingdom
CATEGORIES:National Pool Lifeguard Qualification
ATTACH;FMTTYPE=image/png:https://www.bssleisure.com/wp-content/uploads/2016/11/Rookie-Lifeguard.png
ORGANIZER;CN="BSS Leisure":MAILTO:info@bssleisure.com
GEO:53.5795607;-2.455146
X-APPLE-STRUCTURED-LOCATION;VALUE=URI;X-ADDRESS=Bolton School Sports Complex Bolton School Chorley New Road Bolton Lancashire BL1 4PA United Kingdom;X-APPLE-RADIUS=500;X-TITLE=Bolton School\, Chorley New Road:geo:-2.455146,53.5795607
END:VEVENT
BEGIN:VEVENT
DTSTART;TZID=Europe/London:20211028T080000
DTEND;TZID=Europe/London:20211028T170000
DTSTAMP:20260420T012113
CREATED:20171108T104053Z
LAST-MODIFIED:20220317T132749Z
UID:10003406-1635408000-1635440400@www.bssleisure.com
SUMMARY:National Pool Lifeguard Qualification
DESCRIPTION:The NPLQ covers all elements of Pool Rescue Techniques\, Lifeguarding Theory\, First Aid and CPR. The course is physically demanding and will include swimming to set times\, lifting casualties and diving to the deepest part of the swimming po \n					\nBenefits:					\n\n\nLearn Water Based First Aid\nGain Pool Rescue Knowledge\nConfidence delivering CPR\n\n\n					\nPricing Plans:					\n\n\n\nPer Candidate\n–\n£250\n\n\n\n		\n							\n						\n				\nInstructors:			\n			\n					\n	\n\n		\n								\n		\n		\n							Lucy Brogan					\n							info@bssleisure.com\n							01204 434797
URL:https://www.bssleisure.com/events/national-pool-lifeguard-qualification-5/2021-10-28/
LOCATION:Bolton School Sports Complex\, Bolton School\, Chorley New Road\, Bolton\, Lancashire\, BL1 4PA\, United Kingdom
CATEGORIES:National Pool Lifeguard Qualification
ATTACH;FMTTYPE=image/png:https://www.bssleisure.com/wp-content/uploads/2016/11/Rookie-Lifeguard.png
ORGANIZER;CN="BSS Leisure":MAILTO:info@bssleisure.com
GEO:53.5795607;-2.455146
X-APPLE-STRUCTURED-LOCATION;VALUE=URI;X-ADDRESS=Bolton School Sports Complex Bolton School Chorley New Road Bolton Lancashire BL1 4PA United Kingdom;X-APPLE-RADIUS=500;X-TITLE=Bolton School\, Chorley New Road:geo:-2.455146,53.5795607
END:VEVENT
BEGIN:VEVENT
DTSTART;TZID=Europe/London:20211027T080000
DTEND;TZID=Europe/London:20211027T170000
DTSTAMP:20260420T012113
CREATED:20171108T104053Z
LAST-MODIFIED:20220317T132749Z
UID:10003405-1635321600-1635354000@www.bssleisure.com
SUMMARY:National Pool Lifeguard Qualification
DESCRIPTION:The NPLQ covers all elements of Pool Rescue Techniques\, Lifeguarding Theory\, First Aid and CPR. The course is physically demanding and will include swimming to set times\, lifting casualties and diving to the deepest part of the swimming po \n					\nBenefits:					\n\n\nLearn Water Based First Aid\nGain Pool Rescue Knowledge\nConfidence delivering CPR\n\n\n					\nPricing Plans:					\n\n\n\nPer Candidate\n–\n£250\n\n\n\n		\n							\n						\n				\nInstructors:			\n			\n					\n	\n\n		\n								\n		\n		\n							Lucy Brogan					\n							info@bssleisure.com\n							01204 434797
URL:https://www.bssleisure.com/events/national-pool-lifeguard-qualification-5/2021-10-27/
LOCATION:Bolton School Sports Complex\, Bolton School\, Chorley New Road\, Bolton\, Lancashire\, BL1 4PA\, United Kingdom
CATEGORIES:National Pool Lifeguard Qualification
ATTACH;FMTTYPE=image/png:https://www.bssleisure.com/wp-content/uploads/2016/11/Rookie-Lifeguard.png
ORGANIZER;CN="BSS Leisure":MAILTO:info@bssleisure.com
GEO:53.5795607;-2.455146
X-APPLE-STRUCTURED-LOCATION;VALUE=URI;X-ADDRESS=Bolton School Sports Complex Bolton School Chorley New Road Bolton Lancashire BL1 4PA United Kingdom;X-APPLE-RADIUS=500;X-TITLE=Bolton School\, Chorley New Road:geo:-2.455146,53.5795607
END:VEVENT
BEGIN:VEVENT
DTSTART;TZID=Europe/London:20211026T080000
DTEND;TZID=Europe/London:20211026T170000
DTSTAMP:20260420T012113
CREATED:20171108T104053Z
LAST-MODIFIED:20220317T132749Z
UID:10003404-1635235200-1635267600@www.bssleisure.com
SUMMARY:National Pool Lifeguard Qualification
DESCRIPTION:The NPLQ covers all elements of Pool Rescue Techniques\, Lifeguarding Theory\, First Aid and CPR. The course is physically demanding and will include swimming to set times\, lifting casualties and diving to the deepest part of the swimming po \n					\nBenefits:					\n\n\nLearn Water Based First Aid\nGain Pool Rescue Knowledge\nConfidence delivering CPR\n\n\n					\nPricing Plans:					\n\n\n\nPer Candidate\n–\n£250\n\n\n\n		\n							\n						\n				\nInstructors:			\n			\n					\n	\n\n		\n								\n		\n		\n							Lucy Brogan					\n							info@bssleisure.com\n							01204 434797
URL:https://www.bssleisure.com/events/national-pool-lifeguard-qualification-5/2021-10-26/
LOCATION:Bolton School Sports Complex\, Bolton School\, Chorley New Road\, Bolton\, Lancashire\, BL1 4PA\, United Kingdom
CATEGORIES:National Pool Lifeguard Qualification
ATTACH;FMTTYPE=image/png:https://www.bssleisure.com/wp-content/uploads/2016/11/Rookie-Lifeguard.png
ORGANIZER;CN="BSS Leisure":MAILTO:info@bssleisure.com
GEO:53.5795607;-2.455146
X-APPLE-STRUCTURED-LOCATION;VALUE=URI;X-ADDRESS=Bolton School Sports Complex Bolton School Chorley New Road Bolton Lancashire BL1 4PA United Kingdom;X-APPLE-RADIUS=500;X-TITLE=Bolton School\, Chorley New Road:geo:-2.455146,53.5795607
END:VEVENT
BEGIN:VEVENT
DTSTART;TZID=Europe/London:20211025T080000
DTEND;TZID=Europe/London:20211025T170000
DTSTAMP:20260420T012113
CREATED:20171108T104053Z
LAST-MODIFIED:20220317T132749Z
UID:10003403-1635148800-1635181200@www.bssleisure.com
SUMMARY:National Pool Lifeguard Qualification
DESCRIPTION:The NPLQ covers all elements of Pool Rescue Techniques\, Lifeguarding Theory\, First Aid and CPR. The course is physically demanding and will include swimming to set times\, lifting casualties and diving to the deepest part of the swimming po \n					\nBenefits:					\n\n\nLearn Water Based First Aid\nGain Pool Rescue Knowledge\nConfidence delivering CPR\n\n\n					\nPricing Plans:					\n\n\n\nPer Candidate\n–\n£250\n\n\n\n		\n							\n						\n				\nInstructors:			\n			\n					\n	\n\n		\n								\n		\n		\n							Lucy Brogan					\n							info@bssleisure.com\n							01204 434797
URL:https://www.bssleisure.com/events/national-pool-lifeguard-qualification-5/2021-10-25/
LOCATION:Bolton School Sports Complex\, Bolton School\, Chorley New Road\, Bolton\, Lancashire\, BL1 4PA\, United Kingdom
CATEGORIES:National Pool Lifeguard Qualification
ATTACH;FMTTYPE=image/png:https://www.bssleisure.com/wp-content/uploads/2016/11/Rookie-Lifeguard.png
ORGANIZER;CN="BSS Leisure":MAILTO:info@bssleisure.com
GEO:53.5795607;-2.455146
X-APPLE-STRUCTURED-LOCATION;VALUE=URI;X-ADDRESS=Bolton School Sports Complex Bolton School Chorley New Road Bolton Lancashire BL1 4PA United Kingdom;X-APPLE-RADIUS=500;X-TITLE=Bolton School\, Chorley New Road:geo:-2.455146,53.5795607
END:VEVENT
BEGIN:VEVENT
DTSTART;TZID=Europe/London:20180730T080000
DTEND;TZID=Europe/London:20180803T170000
DTSTAMP:20260420T012113
CREATED:20161109T175215Z
LAST-MODIFIED:20171108T105114Z
UID:10001970-1532937600-1533315600@www.bssleisure.com
SUMMARY:National Pool Lifeguard Qualification
DESCRIPTION:The NPLQ covers all elements of Pool Rescue Techniques\, Lifeguarding Theory\, First Aid and CPR. The course is physically demanding and will include swimming to set times\, lifting casualties and diving to the deepest part of the swimming pool. \n					\nBenefits:					\n\n\nLearn Water Based First Aid\nGain Pool Rescue Knowledge\nConfidence delivering CPR\n\n\n					\nPricing Plans:					\n\n\n\nPer Candidate\n–\n£230\nBUY\n\n\n\n					\nInstructors:					\n\n		\n								\n		\n		\n							Dianne Lewis					\n							info@bssleisure.com\n							Tel: 01204 434797
URL:https://www.bssleisure.com/events/national-pool-lifeguard-qualification-2/
LOCATION:Bolton School Sports Complex\, Bolton School\, Chorley New Road\, Bolton\, Lancashire\, BL1 4PA\, United Kingdom
CATEGORIES:National Pool Lifeguard Qualification
ATTACH;FMTTYPE=image/png:https://www.bssleisure.com/wp-content/uploads/2016/11/Rookie-Lifeguard.png
ORGANIZER;CN="BSS Leisure":MAILTO:info@bssleisure.com
GEO:53.5795607;-2.455146
X-APPLE-STRUCTURED-LOCATION;VALUE=URI;X-ADDRESS=Bolton School Sports Complex Bolton School Chorley New Road Bolton Lancashire BL1 4PA United Kingdom;X-APPLE-RADIUS=500;X-TITLE=Bolton School\, Chorley New Road:geo:-2.455146,53.5795607
END:VEVENT
BEGIN:VEVENT
DTSTART;TZID=Europe/London:20180402T083000
DTEND;TZID=Europe/London:20180406T173000
DTSTAMP:20260420T012113
CREATED:20161109T174951Z
LAST-MODIFIED:20171113T112005Z
UID:10001969-1522657800-1523035800@www.bssleisure.com
SUMMARY:National Pool Lifeguard Qualification
DESCRIPTION:The NPLQ covers all elements of Pool Rescue Techniques\, Lifeguarding Theory\, First Aid and CPR. The course is physically demanding and will include swimming to set times\, lifting casualties and diving to the deepest part of the swimming pool. \n					\nBenefits:					\n\n\nLearn Water Based First Aid\nGain Pool Rescue Knowledge\nConfidence delivering CPR\n\n\n					\nPricing Plans:					\n\n\n\nPer Candidate\n–\n£230\nBUY\n\n\n\n					\nInstructors:					\n\n		\n								\n		\n		\n							Emma Conway					\n							info@bssleisure.com\n							Tel: 01204 434797
URL:https://www.bssleisure.com/events/national-pool-lifeguard-qualification/
LOCATION:Bolton School Sports Complex\, Bolton School\, Chorley New Road\, Bolton\, Lancashire\, BL1 4PA\, United Kingdom
CATEGORIES:National Pool Lifeguard Qualification
ATTACH;FMTTYPE=image/png:https://www.bssleisure.com/wp-content/uploads/2016/11/Rookie-Lifeguard.png
ORGANIZER;CN="BSS Leisure":MAILTO:info@bssleisure.com
GEO:53.5795607;-2.455146
X-APPLE-STRUCTURED-LOCATION;VALUE=URI;X-ADDRESS=Bolton School Sports Complex Bolton School Chorley New Road Bolton Lancashire BL1 4PA United Kingdom;X-APPLE-RADIUS=500;X-TITLE=Bolton School\, Chorley New Road:geo:-2.455146,53.5795607
END:VEVENT
END:VCALENDAR