BEGIN:VCALENDAR
VERSION:2.0
PRODID:-//Bolton School Sports Leisure Services - ECPv6.15.15//NONSGML v1.0//EN
CALSCALE:GREGORIAN
METHOD:PUBLISH
X-WR-CALNAME:Bolton School Sports Leisure Services
X-ORIGINAL-URL:https://www.bssleisure.com
X-WR-CALDESC:Events for Bolton School Sports Leisure Services
REFRESH-INTERVAL;VALUE=DURATION:PT1H
X-Robots-Tag:noindex
X-PUBLISHED-TTL:PT1H
BEGIN:VTIMEZONE
TZID:Europe/London
BEGIN:DAYLIGHT
TZOFFSETFROM:+0000
TZOFFSETTO:+0100
TZNAME:BST
DTSTART:20170326T010000
END:DAYLIGHT
BEGIN:STANDARD
TZOFFSETFROM:+0100
TZOFFSETTO:+0000
TZNAME:GMT
DTSTART:20171029T010000
END:STANDARD
BEGIN:DAYLIGHT
TZOFFSETFROM:+0000
TZOFFSETTO:+0100
TZNAME:BST
DTSTART:20180325T010000
END:DAYLIGHT
BEGIN:STANDARD
TZOFFSETFROM:+0100
TZOFFSETTO:+0000
TZNAME:GMT
DTSTART:20181028T010000
END:STANDARD
BEGIN:DAYLIGHT
TZOFFSETFROM:+0000
TZOFFSETTO:+0100
TZNAME:BST
DTSTART:20190331T010000
END:DAYLIGHT
BEGIN:STANDARD
TZOFFSETFROM:+0100
TZOFFSETTO:+0000
TZNAME:GMT
DTSTART:20191027T010000
END:STANDARD
BEGIN:DAYLIGHT
TZOFFSETFROM:+0000
TZOFFSETTO:+0100
TZNAME:BST
DTSTART:20200329T010000
END:DAYLIGHT
BEGIN:STANDARD
TZOFFSETFROM:+0100
TZOFFSETTO:+0000
TZNAME:GMT
DTSTART:20201025T010000
END:STANDARD
END:VTIMEZONE
BEGIN:VEVENT
DTSTART;TZID=Europe/London:20190112T130000
DTEND;TZID=Europe/London:20190112T143000
DTSTAMP:20260423T073653
CREATED:20161220T003915Z
LAST-MODIFIED:20181210T125755Z
UID:10000757-1547298000-1547303400@www.bssleisure.com
SUMMARY:NTK Martial Arts
DESCRIPTION:NTK Martial Arts hold regular weekly pay/play Jujitsu classes in a safe but fun and friendly environment for ages 5 years and above. We believe self-defence is a life skill which improves agility\, confidence\, concentration and discipline. \nFirst session is free! \nSpaces are limited due to high demand. To check availability and secure a place\, please contact us directly over the telephone or email. \nContact information for bookings:\nT: 01204 491652 or 07772520580\nE: info@ntkmartialarts.com\nW: www.ntkmartialarts.com \n					\nBenefits:					\n\n\nSelf-Discipline\nSelf-Defence\nSuitable for all Ages & Abilities\n\n\n					\nPricing Plans:					\n\n\n\n1 Session\n–\n£5.50\n\n\n\n					\nInstructors:					\n\n		\n					\n										\n			\n		\n		\n							\n							Andrea &amp; Andrew							\n					\n					 MARTIAL ARTS INSTRUCTORS \n							info@ntkmartialarts.com\n							Tel: 01204 491652 or 077725 20580\n				\n					\n	\n	\n\n\nView Martial Arts Course Timetable →      Contact Us
URL:https://www.bssleisure.com/events/ntk-martial-arts-2018-12-15/2019-01-12/
LOCATION:Bolton School Sports Complex\, Bolton School\, Chorley New Road\, Bolton\, Lancashire\, BL1 4PA\, United Kingdom
CATEGORIES:Martial Arts
ATTACH;FMTTYPE=image/png:https://www.bssleisure.com/wp-content/uploads/2016/11/Martial-Arts.png
ORGANIZER;CN="BSS Leisure":MAILTO:info@bssleisure.com
GEO:53.5795607;-2.455146
X-APPLE-STRUCTURED-LOCATION;VALUE=URI;X-ADDRESS=Bolton School Sports Complex Bolton School Chorley New Road Bolton Lancashire BL1 4PA United Kingdom;X-APPLE-RADIUS=500;X-TITLE=Bolton School\, Chorley New Road:geo:-2.455146,53.5795607
END:VEVENT
BEGIN:VEVENT
DTSTART;TZID=Europe/London:20190105T130000
DTEND;TZID=Europe/London:20190105T143000
DTSTAMP:20260423T073653
CREATED:20161220T003915Z
LAST-MODIFIED:20181210T125755Z
UID:10000756-1546693200-1546698600@www.bssleisure.com
SUMMARY:NTK Martial Arts
DESCRIPTION:NTK Martial Arts hold regular weekly pay/play Jujitsu classes in a safe but fun and friendly environment for ages 5 years and above. We believe self-defence is a life skill which improves agility\, confidence\, concentration and discipline. \nFirst session is free! \nSpaces are limited due to high demand. To check availability and secure a place\, please contact us directly over the telephone or email. \nContact information for bookings:\nT: 01204 491652 or 07772520580\nE: info@ntkmartialarts.com\nW: www.ntkmartialarts.com \n					\nBenefits:					\n\n\nSelf-Discipline\nSelf-Defence\nSuitable for all Ages & Abilities\n\n\n					\nPricing Plans:					\n\n\n\n1 Session\n–\n£5.50\n\n\n\n					\nInstructors:					\n\n		\n					\n										\n			\n		\n		\n							\n							Andrea &amp; Andrew							\n					\n					 MARTIAL ARTS INSTRUCTORS \n							info@ntkmartialarts.com\n							Tel: 01204 491652 or 077725 20580\n				\n					\n	\n	\n\n\nView Martial Arts Course Timetable →      Contact Us
URL:https://www.bssleisure.com/events/ntk-martial-arts-2018-12-15/2019-01-05/
LOCATION:Bolton School Sports Complex\, Bolton School\, Chorley New Road\, Bolton\, Lancashire\, BL1 4PA\, United Kingdom
CATEGORIES:Martial Arts
ATTACH;FMTTYPE=image/png:https://www.bssleisure.com/wp-content/uploads/2016/11/Martial-Arts.png
ORGANIZER;CN="BSS Leisure":MAILTO:info@bssleisure.com
GEO:53.5795607;-2.455146
X-APPLE-STRUCTURED-LOCATION;VALUE=URI;X-ADDRESS=Bolton School Sports Complex Bolton School Chorley New Road Bolton Lancashire BL1 4PA United Kingdom;X-APPLE-RADIUS=500;X-TITLE=Bolton School\, Chorley New Road:geo:-2.455146,53.5795607
END:VEVENT
BEGIN:VEVENT
DTSTART;TZID=Europe/London:20181215T130000
DTEND;TZID=Europe/London:20181215T143000
DTSTAMP:20260423T073653
CREATED:20161220T003915Z
LAST-MODIFIED:20181210T125755Z
UID:10000755-1544878800-1544884200@www.bssleisure.com
SUMMARY:NTK Martial Arts
DESCRIPTION:NTK Martial Arts hold regular weekly pay/play Jujitsu classes in a safe but fun and friendly environment for ages 5 years and above. We believe self-defence is a life skill which improves agility\, confidence\, concentration and discipline. \nFirst session is free! \nSpaces are limited due to high demand. To check availability and secure a place\, please contact us directly over the telephone or email. \nContact information for bookings:\nT: 01204 491652 or 07772520580\nE: info@ntkmartialarts.com\nW: www.ntkmartialarts.com \n					\nBenefits:					\n\n\nSelf-Discipline\nSelf-Defence\nSuitable for all Ages & Abilities\n\n\n					\nPricing Plans:					\n\n\n\n1 Session\n–\n£5.50\n\n\n\n					\nInstructors:					\n\n		\n					\n										\n			\n		\n		\n							\n							Andrea &amp; Andrew							\n					\n					 MARTIAL ARTS INSTRUCTORS \n							info@ntkmartialarts.com\n							Tel: 01204 491652 or 077725 20580\n				\n					\n	\n	\n\n\nView Martial Arts Course Timetable →      Contact Us
URL:https://www.bssleisure.com/events/ntk-martial-arts-2018-12-15/2018-12-15/
LOCATION:Bolton School Sports Complex\, Bolton School\, Chorley New Road\, Bolton\, Lancashire\, BL1 4PA\, United Kingdom
CATEGORIES:Martial Arts
ATTACH;FMTTYPE=image/png:https://www.bssleisure.com/wp-content/uploads/2016/11/Martial-Arts.png
ORGANIZER;CN="BSS Leisure":MAILTO:info@bssleisure.com
GEO:53.5795607;-2.455146
X-APPLE-STRUCTURED-LOCATION;VALUE=URI;X-ADDRESS=Bolton School Sports Complex Bolton School Chorley New Road Bolton Lancashire BL1 4PA United Kingdom;X-APPLE-RADIUS=500;X-TITLE=Bolton School\, Chorley New Road:geo:-2.455146,53.5795607
END:VEVENT
BEGIN:VEVENT
DTSTART;TZID=Europe/London:20180120T130000
DTEND;TZID=Europe/London:20180120T143000
DTSTAMP:20260423T073653
CREATED:20161220T003915Z
LAST-MODIFIED:20180115T154734Z
UID:10002714-1516453200-1516458600@www.bssleisure.com
SUMMARY:NTK Martial Arts
DESCRIPTION:NTK Martial Arts hold regular weekly pay/play Jujitsu classes in a safe but fun and friendly environment for ages 5 years and above. We believe self-defence is a life skill which improves agility\, confidence\, concentration and discipline. \nFirst session is free! \nSpaces are limited due to high demand. To check availability and secure a place\, please contact us directly over the telephone or email. \nContact information for bookings:\nT: 01204 491652 or 07772520580\nE: info@ntkmartialarts.com\nW: www.ntkmartialarts.com \n					\nBenefits:					\n\n\nSelf-Discipline\nSelf-Defence\nSuitable for all Ages & Abilities\n\n\n					\nPricing Plans:					\n\n\n\n1 Session\n–\n£5.50\n\n\n\n					\nInstructors:					\n\n		\n					\n										\n			\n		\n		\n							\n							Andrea &amp; Andrew							\n					\n					 MARTIAL ARTS INSTRUCTORS \n							info@ntkmartialarts.com\n							Tel: 01204 491652 or 077725 20580\n				\n					\n	\n	\n\n\nView Martial Arts Course Timetable →      Contact Us
URL:https://www.bssleisure.com/events/ntk-martial-arts/2018-01-20/
LOCATION:Bolton School Sports Complex\, Bolton School\, Chorley New Road\, Bolton\, Lancashire\, BL1 4PA\, United Kingdom
CATEGORIES:Martial Arts
ATTACH;FMTTYPE=image/png:https://www.bssleisure.com/wp-content/uploads/2016/11/Martial-Arts.png
ORGANIZER;CN="BSS Leisure":MAILTO:info@bssleisure.com
GEO:53.5795607;-2.455146
X-APPLE-STRUCTURED-LOCATION;VALUE=URI;X-ADDRESS=Bolton School Sports Complex Bolton School Chorley New Road Bolton Lancashire BL1 4PA United Kingdom;X-APPLE-RADIUS=500;X-TITLE=Bolton School\, Chorley New Road:geo:-2.455146,53.5795607
END:VEVENT
BEGIN:VEVENT
DTSTART;TZID=Europe/London:20180113T130000
DTEND;TZID=Europe/London:20180113T143000
DTSTAMP:20260423T073653
CREATED:20161220T003915Z
LAST-MODIFIED:20180115T154734Z
UID:10002713-1515848400-1515853800@www.bssleisure.com
SUMMARY:NTK Martial Arts
DESCRIPTION:NTK Martial Arts hold regular weekly pay/play Jujitsu classes in a safe but fun and friendly environment for ages 5 years and above. We believe self-defence is a life skill which improves agility\, confidence\, concentration and discipline. \nFirst session is free! \nSpaces are limited due to high demand. To check availability and secure a place\, please contact us directly over the telephone or email. \nContact information for bookings:\nT: 01204 491652 or 07772520580\nE: info@ntkmartialarts.com\nW: www.ntkmartialarts.com \n					\nBenefits:					\n\n\nSelf-Discipline\nSelf-Defence\nSuitable for all Ages & Abilities\n\n\n					\nPricing Plans:					\n\n\n\n1 Session\n–\n£5.50\n\n\n\n					\nInstructors:					\n\n		\n					\n										\n			\n		\n		\n							\n							Andrea &amp; Andrew							\n					\n					 MARTIAL ARTS INSTRUCTORS \n							info@ntkmartialarts.com\n							Tel: 01204 491652 or 077725 20580\n				\n					\n	\n	\n\n\nView Martial Arts Course Timetable →      Contact Us
URL:https://www.bssleisure.com/events/ntk-martial-arts/2018-01-13/
LOCATION:Bolton School Sports Complex\, Bolton School\, Chorley New Road\, Bolton\, Lancashire\, BL1 4PA\, United Kingdom
CATEGORIES:Martial Arts
ATTACH;FMTTYPE=image/png:https://www.bssleisure.com/wp-content/uploads/2016/11/Martial-Arts.png
ORGANIZER;CN="BSS Leisure":MAILTO:info@bssleisure.com
GEO:53.5795607;-2.455146
X-APPLE-STRUCTURED-LOCATION;VALUE=URI;X-ADDRESS=Bolton School Sports Complex Bolton School Chorley New Road Bolton Lancashire BL1 4PA United Kingdom;X-APPLE-RADIUS=500;X-TITLE=Bolton School\, Chorley New Road:geo:-2.455146,53.5795607
END:VEVENT
BEGIN:VEVENT
DTSTART;TZID=Europe/London:20180106T130000
DTEND;TZID=Europe/London:20180106T143000
DTSTAMP:20260423T073653
CREATED:20161220T003915Z
LAST-MODIFIED:20180115T154734Z
UID:10002712-1515243600-1515249000@www.bssleisure.com
SUMMARY:NTK Martial Arts
DESCRIPTION:NTK Martial Arts hold regular weekly pay/play Jujitsu classes in a safe but fun and friendly environment for ages 5 years and above. We believe self-defence is a life skill which improves agility\, confidence\, concentration and discipline. \nFirst session is free! \nSpaces are limited due to high demand. To check availability and secure a place\, please contact us directly over the telephone or email. \nContact information for bookings:\nT: 01204 491652 or 07772520580\nE: info@ntkmartialarts.com\nW: www.ntkmartialarts.com \n					\nBenefits:					\n\n\nSelf-Discipline\nSelf-Defence\nSuitable for all Ages & Abilities\n\n\n					\nPricing Plans:					\n\n\n\n1 Session\n–\n£5.50\n\n\n\n					\nInstructors:					\n\n		\n					\n										\n			\n		\n		\n							\n							Andrea &amp; Andrew							\n					\n					 MARTIAL ARTS INSTRUCTORS \n							info@ntkmartialarts.com\n							Tel: 01204 491652 or 077725 20580\n				\n					\n	\n	\n\n\nView Martial Arts Course Timetable →      Contact Us
URL:https://www.bssleisure.com/events/ntk-martial-arts/2018-01-06/
LOCATION:Bolton School Sports Complex\, Bolton School\, Chorley New Road\, Bolton\, Lancashire\, BL1 4PA\, United Kingdom
CATEGORIES:Martial Arts
ATTACH;FMTTYPE=image/png:https://www.bssleisure.com/wp-content/uploads/2016/11/Martial-Arts.png
ORGANIZER;CN="BSS Leisure":MAILTO:info@bssleisure.com
GEO:53.5795607;-2.455146
X-APPLE-STRUCTURED-LOCATION;VALUE=URI;X-ADDRESS=Bolton School Sports Complex Bolton School Chorley New Road Bolton Lancashire BL1 4PA United Kingdom;X-APPLE-RADIUS=500;X-TITLE=Bolton School\, Chorley New Road:geo:-2.455146,53.5795607
END:VEVENT
END:VCALENDAR