BEGIN:VCALENDAR
VERSION:2.0
PRODID:-//Bolton School Sports Leisure Services - ECPv6.15.15//NONSGML v1.0//EN
CALSCALE:GREGORIAN
METHOD:PUBLISH
X-WR-CALNAME:Bolton School Sports Leisure Services
X-ORIGINAL-URL:https://www.bssleisure.com
X-WR-CALDESC:Events for Bolton School Sports Leisure Services
REFRESH-INTERVAL;VALUE=DURATION:PT1H
X-Robots-Tag:noindex
X-PUBLISHED-TTL:PT1H
BEGIN:VTIMEZONE
TZID:Europe/London
BEGIN:DAYLIGHT
TZOFFSETFROM:+0000
TZOFFSETTO:+0100
TZNAME:BST
DTSTART:20200329T010000
END:DAYLIGHT
BEGIN:STANDARD
TZOFFSETFROM:+0100
TZOFFSETTO:+0000
TZNAME:GMT
DTSTART:20201025T010000
END:STANDARD
BEGIN:DAYLIGHT
TZOFFSETFROM:+0000
TZOFFSETTO:+0100
TZNAME:BST
DTSTART:20210328T010000
END:DAYLIGHT
BEGIN:STANDARD
TZOFFSETFROM:+0100
TZOFFSETTO:+0000
TZNAME:GMT
DTSTART:20211031T010000
END:STANDARD
BEGIN:DAYLIGHT
TZOFFSETFROM:+0000
TZOFFSETTO:+0100
TZNAME:BST
DTSTART:20220327T010000
END:DAYLIGHT
BEGIN:STANDARD
TZOFFSETFROM:+0100
TZOFFSETTO:+0000
TZNAME:GMT
DTSTART:20221030T010000
END:STANDARD
BEGIN:DAYLIGHT
TZOFFSETFROM:+0000
TZOFFSETTO:+0100
TZNAME:BST
DTSTART:20230326T010000
END:DAYLIGHT
BEGIN:STANDARD
TZOFFSETFROM:+0100
TZOFFSETTO:+0000
TZNAME:GMT
DTSTART:20231029T010000
END:STANDARD
END:VTIMEZONE
BEGIN:VEVENT
DTSTART;TZID=Europe/London:20220217T083000
DTEND;TZID=Europe/London:20220217T170000
DTSTAMP:20260420T053757
CREATED:20211008T131424Z
LAST-MODIFIED:20211008T131424Z
UID:10004752-1645086600-1645117200@www.bssleisure.com
SUMMARY:Sports Camp
DESCRIPTION:Children are encouraged to come and experience sport like they never have before. Sports Camp offers a week of sport and fun including activities such as dodgeball\, basketball\, football and netball. Don’t forget to also bring your child’s swimming gear so they are able to participate in the daily\, hour long splash time within our very own 25m swimming pool. Snacks and hot meal are provided each day. Sign your child up today for a whirlwind of fun and games for the entire week. \n		\n							\n						\n				\nBenefits:\n			\n			\n					\n	\n\nVariety of Sports\nCommunication Skills\nDaily 1hr Swim Session\nConfidence Building\n\n		\n							\n						\n				\nText Divider\n			\n			\n					\n	\n\n\n\nPer Day\n–\n£26\nBUY\n\n\nPer Week\n–\n£125\nBUY\n\n\n\n		\n							\n						\n				\nInstructor:\n			\n			\n					\n	\n\n		\n								\n		\n		\n							Jessica Ferguson					\n					 Children's Activity Supervisor \n							info@bssleisure.com\n							Tel: 01204 434797
URL:https://www.bssleisure.com/events/sports-camp-4/2022-02-17/
LOCATION:Bolton School Sports Complex\, Bolton School\, Chorley New Road\, Bolton\, Lancashire\, BL1 4PA\, United Kingdom
CATEGORIES:Sports Camp
ATTACH;FMTTYPE=image/png:https://www.bssleisure.com/wp-content/uploads/2016/11/Sports-Camp.png
ORGANIZER;CN="BSS Leisure":MAILTO:info@bssleisure.com
GEO:53.5795607;-2.455146
X-APPLE-STRUCTURED-LOCATION;VALUE=URI;X-ADDRESS=Bolton School Sports Complex Bolton School Chorley New Road Bolton Lancashire BL1 4PA United Kingdom;X-APPLE-RADIUS=500;X-TITLE=Bolton School\, Chorley New Road:geo:-2.455146,53.5795607
END:VEVENT
BEGIN:VEVENT
DTSTART;TZID=Europe/London:20220216T083000
DTEND;TZID=Europe/London:20220216T170000
DTSTAMP:20260420T053757
CREATED:20211008T131424Z
LAST-MODIFIED:20211008T131424Z
UID:10004751-1645000200-1645030800@www.bssleisure.com
SUMMARY:Sports Camp
DESCRIPTION:Children are encouraged to come and experience sport like they never have before. Sports Camp offers a week of sport and fun including activities such as dodgeball\, basketball\, football and netball. Don’t forget to also bring your child’s swimming gear so they are able to participate in the daily\, hour long splash time within our very own 25m swimming pool. Snacks and hot meal are provided each day. Sign your child up today for a whirlwind of fun and games for the entire week. \n		\n							\n						\n				\nBenefits:\n			\n			\n					\n	\n\nVariety of Sports\nCommunication Skills\nDaily 1hr Swim Session\nConfidence Building\n\n		\n							\n						\n				\nText Divider\n			\n			\n					\n	\n\n\n\nPer Day\n–\n£26\nBUY\n\n\nPer Week\n–\n£125\nBUY\n\n\n\n		\n							\n						\n				\nInstructor:\n			\n			\n					\n	\n\n		\n								\n		\n		\n							Jessica Ferguson					\n					 Children's Activity Supervisor \n							info@bssleisure.com\n							Tel: 01204 434797
URL:https://www.bssleisure.com/events/sports-camp-4/2022-02-16/
LOCATION:Bolton School Sports Complex\, Bolton School\, Chorley New Road\, Bolton\, Lancashire\, BL1 4PA\, United Kingdom
CATEGORIES:Sports Camp
ATTACH;FMTTYPE=image/png:https://www.bssleisure.com/wp-content/uploads/2016/11/Sports-Camp.png
ORGANIZER;CN="BSS Leisure":MAILTO:info@bssleisure.com
GEO:53.5795607;-2.455146
X-APPLE-STRUCTURED-LOCATION;VALUE=URI;X-ADDRESS=Bolton School Sports Complex Bolton School Chorley New Road Bolton Lancashire BL1 4PA United Kingdom;X-APPLE-RADIUS=500;X-TITLE=Bolton School\, Chorley New Road:geo:-2.455146,53.5795607
END:VEVENT
BEGIN:VEVENT
DTSTART;TZID=Europe/London:20220215T083000
DTEND;TZID=Europe/London:20220215T170000
DTSTAMP:20260420T053757
CREATED:20211008T131424Z
LAST-MODIFIED:20211008T131424Z
UID:10004750-1644913800-1644944400@www.bssleisure.com
SUMMARY:Sports Camp
DESCRIPTION:Children are encouraged to come and experience sport like they never have before. Sports Camp offers a week of sport and fun including activities such as dodgeball\, basketball\, football and netball. Don’t forget to also bring your child’s swimming gear so they are able to participate in the daily\, hour long splash time within our very own 25m swimming pool. Snacks and hot meal are provided each day. Sign your child up today for a whirlwind of fun and games for the entire week. \n		\n							\n						\n				\nBenefits:\n			\n			\n					\n	\n\nVariety of Sports\nCommunication Skills\nDaily 1hr Swim Session\nConfidence Building\n\n		\n							\n						\n				\nText Divider\n			\n			\n					\n	\n\n\n\nPer Day\n–\n£26\nBUY\n\n\nPer Week\n–\n£125\nBUY\n\n\n\n		\n							\n						\n				\nInstructor:\n			\n			\n					\n	\n\n		\n								\n		\n		\n							Jessica Ferguson					\n					 Children's Activity Supervisor \n							info@bssleisure.com\n							Tel: 01204 434797
URL:https://www.bssleisure.com/events/sports-camp-4/2022-02-15/
LOCATION:Bolton School Sports Complex\, Bolton School\, Chorley New Road\, Bolton\, Lancashire\, BL1 4PA\, United Kingdom
CATEGORIES:Sports Camp
ATTACH;FMTTYPE=image/png:https://www.bssleisure.com/wp-content/uploads/2016/11/Sports-Camp.png
ORGANIZER;CN="BSS Leisure":MAILTO:info@bssleisure.com
GEO:53.5795607;-2.455146
X-APPLE-STRUCTURED-LOCATION;VALUE=URI;X-ADDRESS=Bolton School Sports Complex Bolton School Chorley New Road Bolton Lancashire BL1 4PA United Kingdom;X-APPLE-RADIUS=500;X-TITLE=Bolton School\, Chorley New Road:geo:-2.455146,53.5795607
END:VEVENT
BEGIN:VEVENT
DTSTART;TZID=Europe/London:20220214T083000
DTEND;TZID=Europe/London:20220214T170000
DTSTAMP:20260420T053757
CREATED:20211008T131424Z
LAST-MODIFIED:20211008T131424Z
UID:10004749-1644827400-1644858000@www.bssleisure.com
SUMMARY:Sports Camp
DESCRIPTION:Children are encouraged to come and experience sport like they never have before. Sports Camp offers a week of sport and fun including activities such as dodgeball\, basketball\, football and netball. Don’t forget to also bring your child’s swimming gear so they are able to participate in the daily\, hour long splash time within our very own 25m swimming pool. Snacks and hot meal are provided each day. Sign your child up today for a whirlwind of fun and games for the entire week. \n		\n							\n						\n				\nBenefits:\n			\n			\n					\n	\n\nVariety of Sports\nCommunication Skills\nDaily 1hr Swim Session\nConfidence Building\n\n		\n							\n						\n				\nText Divider\n			\n			\n					\n	\n\n\n\nPer Day\n–\n£26\nBUY\n\n\nPer Week\n–\n£125\nBUY\n\n\n\n		\n							\n						\n				\nInstructor:\n			\n			\n					\n	\n\n		\n								\n		\n		\n							Jessica Ferguson					\n					 Children's Activity Supervisor \n							info@bssleisure.com\n							Tel: 01204 434797
URL:https://www.bssleisure.com/events/sports-camp-4/2022-02-14/
LOCATION:Bolton School Sports Complex\, Bolton School\, Chorley New Road\, Bolton\, Lancashire\, BL1 4PA\, United Kingdom
CATEGORIES:Sports Camp
ATTACH;FMTTYPE=image/png:https://www.bssleisure.com/wp-content/uploads/2016/11/Sports-Camp.png
ORGANIZER;CN="BSS Leisure":MAILTO:info@bssleisure.com
GEO:53.5795607;-2.455146
X-APPLE-STRUCTURED-LOCATION;VALUE=URI;X-ADDRESS=Bolton School Sports Complex Bolton School Chorley New Road Bolton Lancashire BL1 4PA United Kingdom;X-APPLE-RADIUS=500;X-TITLE=Bolton School\, Chorley New Road:geo:-2.455146,53.5795607
END:VEVENT
BEGIN:VEVENT
DTSTART;TZID=Europe/London:20220105T083000
DTEND;TZID=Europe/London:20220105T170000
DTSTAMP:20260420T053757
CREATED:20211008T130634Z
LAST-MODIFIED:20211008T130634Z
UID:10004748-1641371400-1641402000@www.bssleisure.com
SUMMARY:Sports Camp
DESCRIPTION:Children are encouraged to come and experience sport like they never have before. Sports Camp offers a week of sport and fun including activities such as dodgeball\, basketball\, football and netball. Don’t forget to also bring your child’s swimming gear so they are able to participate in the daily\, hour long splash time within our very own 25m swimming pool. Snacks and hot meal are provided each day. Sign your child up today for a whirlwind of fun and games for the entire week. \n		\n							\n						\n				\nBenefits:\n			\n			\n					\n	\n\nVariety of Sports\nCommunication Skills\nDaily 1hr Swim Session\nConfidence Building\n\n		\n							\n						\n				\nPricing Plans:\n			\n			\n					\n	\n\n\n\nPer Day\n–\n£26\nBUY\n\n\nPer Week\n–\n£50\nBUY\n\n\n\n		\n							\n						\n				\nInstructor:\n			\n			\n					\n	\n\n		\n								\n		\n		\n							Jessica Ferguson					\n					 Children's Activity Supervisor \n							info@bssleisure.com\n							Tel: 01204 434797
URL:https://www.bssleisure.com/events/sports-camp-3/2022-01-05/
LOCATION:Bolton School Sports Complex\, Bolton School\, Chorley New Road\, Bolton\, Lancashire\, BL1 4PA\, United Kingdom
CATEGORIES:Sports Camp
ORGANIZER;CN="BSS Leisure":MAILTO:info@bssleisure.com
GEO:53.5795607;-2.455146
X-APPLE-STRUCTURED-LOCATION;VALUE=URI;X-ADDRESS=Bolton School Sports Complex Bolton School Chorley New Road Bolton Lancashire BL1 4PA United Kingdom;X-APPLE-RADIUS=500;X-TITLE=Bolton School\, Chorley New Road:geo:-2.455146,53.5795607
END:VEVENT
BEGIN:VEVENT
DTSTART;TZID=Europe/London:20220104T083000
DTEND;TZID=Europe/London:20220104T170000
DTSTAMP:20260420T053757
CREATED:20211008T130634Z
LAST-MODIFIED:20211008T130634Z
UID:10004747-1641285000-1641315600@www.bssleisure.com
SUMMARY:Sports Camp
DESCRIPTION:Children are encouraged to come and experience sport like they never have before. Sports Camp offers a week of sport and fun including activities such as dodgeball\, basketball\, football and netball. Don’t forget to also bring your child’s swimming gear so they are able to participate in the daily\, hour long splash time within our very own 25m swimming pool. Snacks and hot meal are provided each day. Sign your child up today for a whirlwind of fun and games for the entire week. \n		\n							\n						\n				\nBenefits:\n			\n			\n					\n	\n\nVariety of Sports\nCommunication Skills\nDaily 1hr Swim Session\nConfidence Building\n\n		\n							\n						\n				\nPricing Plans:\n			\n			\n					\n	\n\n\n\nPer Day\n–\n£26\nBUY\n\n\nPer Week\n–\n£50\nBUY\n\n\n\n		\n							\n						\n				\nInstructor:\n			\n			\n					\n	\n\n		\n								\n		\n		\n							Jessica Ferguson					\n					 Children's Activity Supervisor \n							info@bssleisure.com\n							Tel: 01204 434797
URL:https://www.bssleisure.com/events/sports-camp-3/2022-01-04/
LOCATION:Bolton School Sports Complex\, Bolton School\, Chorley New Road\, Bolton\, Lancashire\, BL1 4PA\, United Kingdom
CATEGORIES:Sports Camp
ORGANIZER;CN="BSS Leisure":MAILTO:info@bssleisure.com
GEO:53.5795607;-2.455146
X-APPLE-STRUCTURED-LOCATION;VALUE=URI;X-ADDRESS=Bolton School Sports Complex Bolton School Chorley New Road Bolton Lancashire BL1 4PA United Kingdom;X-APPLE-RADIUS=500;X-TITLE=Bolton School\, Chorley New Road:geo:-2.455146,53.5795607
END:VEVENT
BEGIN:VEVENT
DTSTART;TZID=Europe/London:20211222T083000
DTEND;TZID=Europe/London:20211222T170000
DTSTAMP:20260420T053757
CREATED:20211008T125357Z
LAST-MODIFIED:20211008T125809Z
UID:10004746-1640161800-1640192400@www.bssleisure.com
SUMMARY:Sports Camp
DESCRIPTION:Children are encouraged to come and experience sport like they never have before. Sports Camp offers a week of sport and fun including activities such as dodgeball\, basketball\, football and netball. Don’t forget to also bring your child’s swimming gear so they are able to participate in the daily\, hour long splash time within our very own 25m swimming pool. Snacks and hot meal are provided each day. Sign your child up today for a whirlwind of fun and games for the entire week. \n		\n							\n						\n				\nBenefits:\n			\n			\n					\n	\n\nVariety of Sports\nCommunication Skills\nDaily 1hr Swim Session\nConfidence Building\n\n		\n							\n						\n				\nInstructors:			\n			\n					\n	\n\n\n\nPer Day\n–\n£26\nBUY\n\n\nPer Week\n–\n£125\nBUY\n\n\n\n		\n							\n						\n				\nInstructor:			\n			\n					\n	\n\n		\n								\n		\n		\n							Jessica Ferguson					\n					 Children's Activity Supervisor \n							info@bssleisure.com\n							Tel: 01204 434797
URL:https://www.bssleisure.com/events/sports-camp-2/2021-12-22/
LOCATION:Bolton School Sports Complex\, Bolton School\, Chorley New Road\, Bolton\, Lancashire\, BL1 4PA\, United Kingdom
CATEGORIES:Sports Camp
ATTACH;FMTTYPE=image/png:https://www.bssleisure.com/wp-content/uploads/2016/11/Sports-Camp.png
ORGANIZER;CN="BSS Leisure":MAILTO:info@bssleisure.com
GEO:53.5795607;-2.455146
X-APPLE-STRUCTURED-LOCATION;VALUE=URI;X-ADDRESS=Bolton School Sports Complex Bolton School Chorley New Road Bolton Lancashire BL1 4PA United Kingdom;X-APPLE-RADIUS=500;X-TITLE=Bolton School\, Chorley New Road:geo:-2.455146,53.5795607
END:VEVENT
BEGIN:VEVENT
DTSTART;TZID=Europe/London:20211221T083000
DTEND;TZID=Europe/London:20211221T170000
DTSTAMP:20260420T053757
CREATED:20211008T125357Z
LAST-MODIFIED:20211008T125809Z
UID:10004745-1640075400-1640106000@www.bssleisure.com
SUMMARY:Sports Camp
DESCRIPTION:Children are encouraged to come and experience sport like they never have before. Sports Camp offers a week of sport and fun including activities such as dodgeball\, basketball\, football and netball. Don’t forget to also bring your child’s swimming gear so they are able to participate in the daily\, hour long splash time within our very own 25m swimming pool. Snacks and hot meal are provided each day. Sign your child up today for a whirlwind of fun and games for the entire week. \n		\n							\n						\n				\nBenefits:\n			\n			\n					\n	\n\nVariety of Sports\nCommunication Skills\nDaily 1hr Swim Session\nConfidence Building\n\n		\n							\n						\n				\nInstructors:			\n			\n					\n	\n\n\n\nPer Day\n–\n£26\nBUY\n\n\nPer Week\n–\n£125\nBUY\n\n\n\n		\n							\n						\n				\nInstructor:			\n			\n					\n	\n\n		\n								\n		\n		\n							Jessica Ferguson					\n					 Children's Activity Supervisor \n							info@bssleisure.com\n							Tel: 01204 434797
URL:https://www.bssleisure.com/events/sports-camp-2/2021-12-21/
LOCATION:Bolton School Sports Complex\, Bolton School\, Chorley New Road\, Bolton\, Lancashire\, BL1 4PA\, United Kingdom
CATEGORIES:Sports Camp
ATTACH;FMTTYPE=image/png:https://www.bssleisure.com/wp-content/uploads/2016/11/Sports-Camp.png
ORGANIZER;CN="BSS Leisure":MAILTO:info@bssleisure.com
GEO:53.5795607;-2.455146
X-APPLE-STRUCTURED-LOCATION;VALUE=URI;X-ADDRESS=Bolton School Sports Complex Bolton School Chorley New Road Bolton Lancashire BL1 4PA United Kingdom;X-APPLE-RADIUS=500;X-TITLE=Bolton School\, Chorley New Road:geo:-2.455146,53.5795607
END:VEVENT
BEGIN:VEVENT
DTSTART;TZID=Europe/London:20211220T083000
DTEND;TZID=Europe/London:20211220T170000
DTSTAMP:20260420T053757
CREATED:20211008T125357Z
LAST-MODIFIED:20211008T125809Z
UID:10004744-1639989000-1640019600@www.bssleisure.com
SUMMARY:Sports Camp
DESCRIPTION:Children are encouraged to come and experience sport like they never have before. Sports Camp offers a week of sport and fun including activities such as dodgeball\, basketball\, football and netball. Don’t forget to also bring your child’s swimming gear so they are able to participate in the daily\, hour long splash time within our very own 25m swimming pool. Snacks and hot meal are provided each day. Sign your child up today for a whirlwind of fun and games for the entire week. \n		\n							\n						\n				\nBenefits:\n			\n			\n					\n	\n\nVariety of Sports\nCommunication Skills\nDaily 1hr Swim Session\nConfidence Building\n\n		\n							\n						\n				\nInstructors:			\n			\n					\n	\n\n\n\nPer Day\n–\n£26\nBUY\n\n\nPer Week\n–\n£125\nBUY\n\n\n\n		\n							\n						\n				\nInstructor:			\n			\n					\n	\n\n		\n								\n		\n		\n							Jessica Ferguson					\n					 Children's Activity Supervisor \n							info@bssleisure.com\n							Tel: 01204 434797
URL:https://www.bssleisure.com/events/sports-camp-2/2021-12-20/
LOCATION:Bolton School Sports Complex\, Bolton School\, Chorley New Road\, Bolton\, Lancashire\, BL1 4PA\, United Kingdom
CATEGORIES:Sports Camp
ATTACH;FMTTYPE=image/png:https://www.bssleisure.com/wp-content/uploads/2016/11/Sports-Camp.png
ORGANIZER;CN="BSS Leisure":MAILTO:info@bssleisure.com
GEO:53.5795607;-2.455146
X-APPLE-STRUCTURED-LOCATION;VALUE=URI;X-ADDRESS=Bolton School Sports Complex Bolton School Chorley New Road Bolton Lancashire BL1 4PA United Kingdom;X-APPLE-RADIUS=500;X-TITLE=Bolton School\, Chorley New Road:geo:-2.455146,53.5795607
END:VEVENT
BEGIN:VEVENT
DTSTART;TZID=Europe/London:20211105T083000
DTEND;TZID=Europe/London:20211105T170000
DTSTAMP:20260420T053757
CREATED:20211008T124550Z
LAST-MODIFIED:20211008T124550Z
UID:10004743-1636101000-1636131600@www.bssleisure.com
SUMMARY:Sports Camp
DESCRIPTION:Children are encouraged to come and experience sport like they never have before. Sports Camp offers a week of sport and fun including activities such as dodgeball\, basketball\, football and netball. Don’t forget to also bring your child’s swimming gear so they are able to participate in the daily\, hour long splash time within our very own 25m swimming pool. Snacks and hot meal are provided each day. Sign your child up today for a whirlwind of fun and games for the entire week. \n		\n							\n						\n				\nBenefits:\n			\n			\n					\n	\nVariety of Sports\nCommunication Skills\nDaily 1hr Swim Session\nConfidence Building\n		\n							\n						\n				\nPricing Plan:\n			\n			\n					\n	\n\n\n\nPer Day\n–\n£26\nBUY\n\n\nPer Week\n–\n£125\nBUY\n\n\n\n		\n							\n						\n				\nInstructor:\n			\n			\n					\n	\n\n		\n								\n		\n		\n							Jessica Ferguson					\n					 Children's Activity Supervisor \n							info@bssleisure.com\n							Tel: 01204 434797
URL:https://www.bssleisure.com/events/sports-camp/2021-11-05/
LOCATION:Bolton School Sports Complex\, Bolton School\, Chorley New Road\, Bolton\, Lancashire\, BL1 4PA\, United Kingdom
CATEGORIES:Sports Camp
ATTACH;FMTTYPE=image/png:https://www.bssleisure.com/wp-content/uploads/2016/11/Sports-Camp.png
ORGANIZER;CN="BSS Leisure":MAILTO:info@bssleisure.com
GEO:53.5795607;-2.455146
X-APPLE-STRUCTURED-LOCATION;VALUE=URI;X-ADDRESS=Bolton School Sports Complex Bolton School Chorley New Road Bolton Lancashire BL1 4PA United Kingdom;X-APPLE-RADIUS=500;X-TITLE=Bolton School\, Chorley New Road:geo:-2.455146,53.5795607
END:VEVENT
BEGIN:VEVENT
DTSTART;TZID=Europe/London:20211104T083000
DTEND;TZID=Europe/London:20211104T170000
DTSTAMP:20260420T053757
CREATED:20211008T124550Z
LAST-MODIFIED:20211008T124550Z
UID:10004742-1636014600-1636045200@www.bssleisure.com
SUMMARY:Sports Camp
DESCRIPTION:Children are encouraged to come and experience sport like they never have before. Sports Camp offers a week of sport and fun including activities such as dodgeball\, basketball\, football and netball. Don’t forget to also bring your child’s swimming gear so they are able to participate in the daily\, hour long splash time within our very own 25m swimming pool. Snacks and hot meal are provided each day. Sign your child up today for a whirlwind of fun and games for the entire week. \n		\n							\n						\n				\nBenefits:\n			\n			\n					\n	\nVariety of Sports\nCommunication Skills\nDaily 1hr Swim Session\nConfidence Building\n		\n							\n						\n				\nPricing Plan:\n			\n			\n					\n	\n\n\n\nPer Day\n–\n£26\nBUY\n\n\nPer Week\n–\n£125\nBUY\n\n\n\n		\n							\n						\n				\nInstructor:\n			\n			\n					\n	\n\n		\n								\n		\n		\n							Jessica Ferguson					\n					 Children's Activity Supervisor \n							info@bssleisure.com\n							Tel: 01204 434797
URL:https://www.bssleisure.com/events/sports-camp/2021-11-04/
LOCATION:Bolton School Sports Complex\, Bolton School\, Chorley New Road\, Bolton\, Lancashire\, BL1 4PA\, United Kingdom
CATEGORIES:Sports Camp
ATTACH;FMTTYPE=image/png:https://www.bssleisure.com/wp-content/uploads/2016/11/Sports-Camp.png
ORGANIZER;CN="BSS Leisure":MAILTO:info@bssleisure.com
GEO:53.5795607;-2.455146
X-APPLE-STRUCTURED-LOCATION;VALUE=URI;X-ADDRESS=Bolton School Sports Complex Bolton School Chorley New Road Bolton Lancashire BL1 4PA United Kingdom;X-APPLE-RADIUS=500;X-TITLE=Bolton School\, Chorley New Road:geo:-2.455146,53.5795607
END:VEVENT
BEGIN:VEVENT
DTSTART;TZID=Europe/London:20211103T083000
DTEND;TZID=Europe/London:20211103T170000
DTSTAMP:20260420T053757
CREATED:20211008T124550Z
LAST-MODIFIED:20211008T124550Z
UID:10004741-1635928200-1635958800@www.bssleisure.com
SUMMARY:Sports Camp
DESCRIPTION:Children are encouraged to come and experience sport like they never have before. Sports Camp offers a week of sport and fun including activities such as dodgeball\, basketball\, football and netball. Don’t forget to also bring your child’s swimming gear so they are able to participate in the daily\, hour long splash time within our very own 25m swimming pool. Snacks and hot meal are provided each day. Sign your child up today for a whirlwind of fun and games for the entire week. \n		\n							\n						\n				\nBenefits:\n			\n			\n					\n	\nVariety of Sports\nCommunication Skills\nDaily 1hr Swim Session\nConfidence Building\n		\n							\n						\n				\nPricing Plan:\n			\n			\n					\n	\n\n\n\nPer Day\n–\n£26\nBUY\n\n\nPer Week\n–\n£125\nBUY\n\n\n\n		\n							\n						\n				\nInstructor:\n			\n			\n					\n	\n\n		\n								\n		\n		\n							Jessica Ferguson					\n					 Children's Activity Supervisor \n							info@bssleisure.com\n							Tel: 01204 434797
URL:https://www.bssleisure.com/events/sports-camp/2021-11-03/
LOCATION:Bolton School Sports Complex\, Bolton School\, Chorley New Road\, Bolton\, Lancashire\, BL1 4PA\, United Kingdom
CATEGORIES:Sports Camp
ATTACH;FMTTYPE=image/png:https://www.bssleisure.com/wp-content/uploads/2016/11/Sports-Camp.png
ORGANIZER;CN="BSS Leisure":MAILTO:info@bssleisure.com
GEO:53.5795607;-2.455146
X-APPLE-STRUCTURED-LOCATION;VALUE=URI;X-ADDRESS=Bolton School Sports Complex Bolton School Chorley New Road Bolton Lancashire BL1 4PA United Kingdom;X-APPLE-RADIUS=500;X-TITLE=Bolton School\, Chorley New Road:geo:-2.455146,53.5795607
END:VEVENT
BEGIN:VEVENT
DTSTART;TZID=Europe/London:20211102T083000
DTEND;TZID=Europe/London:20211102T170000
DTSTAMP:20260420T053757
CREATED:20211008T124550Z
LAST-MODIFIED:20211008T124550Z
UID:10004740-1635841800-1635872400@www.bssleisure.com
SUMMARY:Sports Camp
DESCRIPTION:Children are encouraged to come and experience sport like they never have before. Sports Camp offers a week of sport and fun including activities such as dodgeball\, basketball\, football and netball. Don’t forget to also bring your child’s swimming gear so they are able to participate in the daily\, hour long splash time within our very own 25m swimming pool. Snacks and hot meal are provided each day. Sign your child up today for a whirlwind of fun and games for the entire week. \n		\n							\n						\n				\nBenefits:\n			\n			\n					\n	\nVariety of Sports\nCommunication Skills\nDaily 1hr Swim Session\nConfidence Building\n		\n							\n						\n				\nPricing Plan:\n			\n			\n					\n	\n\n\n\nPer Day\n–\n£26\nBUY\n\n\nPer Week\n–\n£125\nBUY\n\n\n\n		\n							\n						\n				\nInstructor:\n			\n			\n					\n	\n\n		\n								\n		\n		\n							Jessica Ferguson					\n					 Children's Activity Supervisor \n							info@bssleisure.com\n							Tel: 01204 434797
URL:https://www.bssleisure.com/events/sports-camp/2021-11-02/
LOCATION:Bolton School Sports Complex\, Bolton School\, Chorley New Road\, Bolton\, Lancashire\, BL1 4PA\, United Kingdom
CATEGORIES:Sports Camp
ATTACH;FMTTYPE=image/png:https://www.bssleisure.com/wp-content/uploads/2016/11/Sports-Camp.png
ORGANIZER;CN="BSS Leisure":MAILTO:info@bssleisure.com
GEO:53.5795607;-2.455146
X-APPLE-STRUCTURED-LOCATION;VALUE=URI;X-ADDRESS=Bolton School Sports Complex Bolton School Chorley New Road Bolton Lancashire BL1 4PA United Kingdom;X-APPLE-RADIUS=500;X-TITLE=Bolton School\, Chorley New Road:geo:-2.455146,53.5795607
END:VEVENT
BEGIN:VEVENT
DTSTART;TZID=Europe/London:20211101T083000
DTEND;TZID=Europe/London:20211101T170000
DTSTAMP:20260420T053757
CREATED:20211008T124550Z
LAST-MODIFIED:20211008T124550Z
UID:10004739-1635755400-1635786000@www.bssleisure.com
SUMMARY:Sports Camp
DESCRIPTION:Children are encouraged to come and experience sport like they never have before. Sports Camp offers a week of sport and fun including activities such as dodgeball\, basketball\, football and netball. Don’t forget to also bring your child’s swimming gear so they are able to participate in the daily\, hour long splash time within our very own 25m swimming pool. Snacks and hot meal are provided each day. Sign your child up today for a whirlwind of fun and games for the entire week. \n		\n							\n						\n				\nBenefits:\n			\n			\n					\n	\nVariety of Sports\nCommunication Skills\nDaily 1hr Swim Session\nConfidence Building\n		\n							\n						\n				\nPricing Plan:\n			\n			\n					\n	\n\n\n\nPer Day\n–\n£26\nBUY\n\n\nPer Week\n–\n£125\nBUY\n\n\n\n		\n							\n						\n				\nInstructor:\n			\n			\n					\n	\n\n		\n								\n		\n		\n							Jessica Ferguson					\n					 Children's Activity Supervisor \n							info@bssleisure.com\n							Tel: 01204 434797
URL:https://www.bssleisure.com/events/sports-camp/2021-11-01/
LOCATION:Bolton School Sports Complex\, Bolton School\, Chorley New Road\, Bolton\, Lancashire\, BL1 4PA\, United Kingdom
CATEGORIES:Sports Camp
ATTACH;FMTTYPE=image/png:https://www.bssleisure.com/wp-content/uploads/2016/11/Sports-Camp.png
ORGANIZER;CN="BSS Leisure":MAILTO:info@bssleisure.com
GEO:53.5795607;-2.455146
X-APPLE-STRUCTURED-LOCATION;VALUE=URI;X-ADDRESS=Bolton School Sports Complex Bolton School Chorley New Road Bolton Lancashire BL1 4PA United Kingdom;X-APPLE-RADIUS=500;X-TITLE=Bolton School\, Chorley New Road:geo:-2.455146,53.5795607
END:VEVENT
END:VCALENDAR