BEGIN:VCALENDAR
VERSION:2.0
PRODID:-//Bolton School Sports Leisure Services - ECPv6.15.15//NONSGML v1.0//EN
CALSCALE:GREGORIAN
METHOD:PUBLISH
X-WR-CALNAME:Bolton School Sports Leisure Services
X-ORIGINAL-URL:https://www.bssleisure.com
X-WR-CALDESC:Events for Bolton School Sports Leisure Services
REFRESH-INTERVAL;VALUE=DURATION:PT1H
X-Robots-Tag:noindex
X-PUBLISHED-TTL:PT1H
BEGIN:VTIMEZONE
TZID:Europe/London
BEGIN:DAYLIGHT
TZOFFSETFROM:+0000
TZOFFSETTO:+0100
TZNAME:BST
DTSTART:20170326T010000
END:DAYLIGHT
BEGIN:STANDARD
TZOFFSETFROM:+0100
TZOFFSETTO:+0000
TZNAME:GMT
DTSTART:20171029T010000
END:STANDARD
BEGIN:DAYLIGHT
TZOFFSETFROM:+0000
TZOFFSETTO:+0100
TZNAME:BST
DTSTART:20180325T010000
END:DAYLIGHT
BEGIN:STANDARD
TZOFFSETFROM:+0100
TZOFFSETTO:+0000
TZNAME:GMT
DTSTART:20181028T010000
END:STANDARD
BEGIN:DAYLIGHT
TZOFFSETFROM:+0000
TZOFFSETTO:+0100
TZNAME:BST
DTSTART:20190331T010000
END:DAYLIGHT
BEGIN:STANDARD
TZOFFSETFROM:+0100
TZOFFSETTO:+0000
TZNAME:GMT
DTSTART:20191027T010000
END:STANDARD
END:VTIMEZONE
BEGIN:VEVENT
DTSTART;TZID=Europe/London:20180212T080000
DTEND;TZID=Europe/London:20180216T170000
DTSTAMP:20260424T192816
CREATED:20161209T211222Z
LAST-MODIFIED:20170913T144355Z
UID:10002254-1518422400-1518800400@www.bssleisure.com
SUMMARY:NPLQ National Pool Lifeguard Trainer Assessor
DESCRIPTION:This course develops experienced lifeguards who are wishing to take the next step in their lifeguarding career giving them the opportunity to be able to train and assess the UK’s leading lifeguard qualification. \nTo Book and for further information:\nPhone: 074963 11304\nEmail: suecass@live.co.uk \n					\nBenefits:					\n\n\nOffers Career Development\nRecognised Qualification to Teach Others\n\n\n					\nPricing Plans:					\n\n\n\nPer Candidate\n–\n£635\n\n\nExisting TA – 3 Day Update Course\n–\n£350\n\n\nTA Defibrillator Course\n–\n£60\n\n\n\n					\nInstructors:					\n\n		\n								\n		\n		\n							Sue Cassidy					\n							suecass@live.co.uk\n							Tel: 074963 11304
URL:https://www.bssleisure.com/events/nplq-national-pool-lifeguard-trainer-assessor/
LOCATION:Bolton School Sports Complex\, Bolton School\, Chorley New Road\, Bolton\, Lancashire\, BL1 4PA\, United Kingdom
CATEGORIES:National Pool Lifeguard Trainer Assessor
ATTACH;FMTTYPE=image/png:https://www.bssleisure.com/wp-content/uploads/2016/11/Bolton-Splash-Swimming-Lessons.png
ORGANIZER;CN="BSS Leisure":MAILTO:info@bssleisure.com
GEO:53.5795607;-2.455146
X-APPLE-STRUCTURED-LOCATION;VALUE=URI;X-ADDRESS=Bolton School Sports Complex Bolton School Chorley New Road Bolton Lancashire BL1 4PA United Kingdom;X-APPLE-RADIUS=500;X-TITLE=Bolton School\, Chorley New Road:geo:-2.455146,53.5795607
END:VEVENT
BEGIN:VEVENT
DTSTART;TZID=Europe/London:20180212T190000
DTEND;TZID=Europe/London:20180212T200000
DTSTAMP:20260424T192816
CREATED:20161219T224644Z
LAST-MODIFIED:20180115T141624Z
UID:10002441-1518462000-1518465600@www.bssleisure.com
SUMMARY:Zumba
DESCRIPTION:We take the “work” out of workout\, by mixing low-intensity and high intensity moves for an interval-style\, calorie-burning\, dance fitness party! All elements of fitness are covered including cardio\, muscle conditioning\, balance\, and flexibility. \n					\nBenefits:					\n\n\nCalorie-Burning\nCardio & Muscle Toning\nFitness Fun\nSocial Activity\nImprove Balance & Flexibility\n\n\n					\nPricing Plans:					\n\n\n\n1 Session\n–\n£4\n\n\n\n					\nInstructors:					\n\n		\n								\n		\n		\n							Babs Koutnikova					\n					 FITNESS INSTRUCTOR \n							info@bssleisure.com\n							Tel: 01204 434797\n				\n					\n	\n	\n\n\nView Zumba Timetable →      Contact Us\n\n		\n			\n				\n				Days\n			\n			:\n			\n				\n				Hours\n			\n							:\n						\n				\n				Minutes\n			\n			:\n			\n				\n				Seconds
URL:https://www.bssleisure.com/events/zumba/2018-02-12/
LOCATION:Bolton School Sports Complex\, Bolton School\, Chorley New Road\, Bolton\, Lancashire\, BL1 4PA\, United Kingdom
CATEGORIES:Zumba
ATTACH;FMTTYPE=image/png:https://www.bssleisure.com/wp-content/uploads/2016/11/Zumba-at-BSS-Leisure.png
ORGANIZER;CN="BSS Leisure":MAILTO:info@bssleisure.com
GEO:53.5795607;-2.455146
X-APPLE-STRUCTURED-LOCATION;VALUE=URI;X-ADDRESS=Bolton School Sports Complex Bolton School Chorley New Road Bolton Lancashire BL1 4PA United Kingdom;X-APPLE-RADIUS=500;X-TITLE=Bolton School\, Chorley New Road:geo:-2.455146,53.5795607
END:VEVENT
END:VCALENDAR