BEGIN:VCALENDAR
VERSION:2.0
PRODID:-//Bolton School Sports Leisure Services - ECPv6.15.15//NONSGML v1.0//EN
CALSCALE:GREGORIAN
METHOD:PUBLISH
X-ORIGINAL-URL:https://www.bssleisure.com
X-WR-CALDESC:Events for Bolton School Sports Leisure Services
REFRESH-INTERVAL;VALUE=DURATION:PT1H
X-Robots-Tag:noindex
X-PUBLISHED-TTL:PT1H
BEGIN:VTIMEZONE
TZID:Europe/London
BEGIN:DAYLIGHT
TZOFFSETFROM:+0000
TZOFFSETTO:+0100
TZNAME:BST
DTSTART:20170326T010000
END:DAYLIGHT
BEGIN:STANDARD
TZOFFSETFROM:+0100
TZOFFSETTO:+0000
TZNAME:GMT
DTSTART:20171029T010000
END:STANDARD
BEGIN:DAYLIGHT
TZOFFSETFROM:+0000
TZOFFSETTO:+0100
TZNAME:BST
DTSTART:20180325T010000
END:DAYLIGHT
BEGIN:STANDARD
TZOFFSETFROM:+0100
TZOFFSETTO:+0000
TZNAME:GMT
DTSTART:20181028T010000
END:STANDARD
BEGIN:DAYLIGHT
TZOFFSETFROM:+0000
TZOFFSETTO:+0100
TZNAME:BST
DTSTART:20190331T010000
END:DAYLIGHT
BEGIN:STANDARD
TZOFFSETFROM:+0100
TZOFFSETTO:+0000
TZNAME:GMT
DTSTART:20191027T010000
END:STANDARD
END:VTIMEZONE
BEGIN:VEVENT
DTSTART;TZID=Europe/London:20180107T083000
DTEND;TZID=Europe/London:20180107T140000
DTSTAMP:20260423T180257
CREATED:20161220T000914Z
LAST-MODIFIED:20180509T115704Z
UID:10002663-1515313800-1515333600@www.bssleisure.com
SUMMARY:BSS Swim Scheme
DESCRIPTION:Our instructors follow the ASA learn to swim programme. Lessons are available for adults and children aged 3 years and above. The programme consists of a range of levels to suit all abilities. \n\nLittle Splashers for under 4 year olds\nASA Stage’s 1-10\nPrivate Swimming Lessons\n\nSpaces are limited due to high demand. To check availability and secure a place\, please contact us directly over the telephone or email. \nContact information for bookings:\nT: 01204 434797\nE: info@bssleisure.com \n					\nBenefits:					\n\n\nLife-Saving Skill\nWater Confidence\nStamina building\n\n\n					\nPricing Plans:					\n\n\n\n11 Week Term\n–\n£55.00\n\n\n\n					\nInstructors:					\n\n		\n								\n		\n		\n							Nathan Grant					\n					 Aquatics Supervisor \n							info@bssleisure.com\n							Tel: 01204 434797\n				\n					\n	\n	\n\n\n		\n								\n		\n		\n							Danielle Crump					\n					 Swim Teacher \n							info@bssleisure.com\n							Tel: 01204 434797\n				\n					\n	\n	\n\n\n		\n								\n		\n		\n							Bradley Astles					\n					 Swim Teacher \n							info@bssleisure.com\n							Tel: 01204 434797\n				\n					\n	\n	\n\n\n\n\nView Bolton Splash Timetable →      Contact Us
URL:https://www.bssleisure.com/events/bolton-splash-swimming-lessons-4/2018-01-07/
LOCATION:Bolton School Sports Complex\, Bolton School\, Chorley New Road\, Bolton\, Lancashire\, BL1 4PA\, United Kingdom
CATEGORIES:Bolton Splash Swimming Lessons
ATTACH;FMTTYPE=image/png:https://www.bssleisure.com/wp-content/uploads/2016/11/Bolton-Splash-Swimming-Lessons.png
ORGANIZER;CN="BSS Leisure":MAILTO:info@bssleisure.com
GEO:53.5795607;-2.455146
X-APPLE-STRUCTURED-LOCATION;VALUE=URI;X-ADDRESS=Bolton School Sports Complex Bolton School Chorley New Road Bolton Lancashire BL1 4PA United Kingdom;X-APPLE-RADIUS=500;X-TITLE=Bolton School\, Chorley New Road:geo:-2.455146,53.5795607
END:VEVENT
BEGIN:VEVENT
DTSTART;TZID=Europe/London:20180107T083000
DTEND;TZID=Europe/London:20180107T160000
DTSTAMP:20260423T180257
CREATED:20161219T233715Z
LAST-MODIFIED:20180509T131434Z
UID:10002578-1515313800-1515340800@www.bssleisure.com
SUMMARY:BSS Swim Scheme
DESCRIPTION:Our instructors follow the ASA learn to swim programme. Lessons are available for adults and children aged 3 years and above. The programme consists of a range of levels to suit all abilities. \n\nLittle Splashers for under 4 year olds\nASA Stage’s 1-10\nPrivate Swimming Lessons\n\nSpaces are limited due to high demand. To check availability and secure a place\, please contact us directly over the telephone or email. \nContact information for bookings:\nT: 01204 434797\nE: info@bssleisure.com \n					\nBenefits:					\n\n\nLife-Saving Skill\nWater Confidence\nStamina building\n\n\n					\nPricing Plans:					\n\n\n\n11 Week Term\n–\n£55.00\n\n\n\n					\nInstructors:					\n\n		\n								\n		\n		\n							Annette Sayers					\n					 Aquatics Supervisor \n							info@bssleisure.com\n							Tel: 01204 434797\n				\n					\n	\n	\n\n\n		\n								\n		\n		\n							Tom Price					\n					 Swim Teacher \n							info@bssleisure.com\n							Tel: 01204 434797\n				\n					\n	\n	\n\n\n		\n								\n		\n		\n							David Holt					\n					 Swim Teacher \n							info@bssleisure.com\n							Tel: 01204 434797\n				\n					\n	\n	\n\n\n		\n								\n		\n		\n							Danielle Crump					\n					 Swimming Teacher \n							info@bssleisure.com\n							Tel: 01204 434797\n				\n					\n	\n	\n\n\n		\n								\n		\n		\n							Fern Edmunds					\n					 Swim Teacher \n							info@bssleisure.com\n							Tel: 01204 434797\n				\n					\n	\n	\n\n\nView Bolton Splash Timetable →      Contact Us
URL:https://www.bssleisure.com/events/bolton-splash-swimming-lessons/2018-01-07/
LOCATION:Bolton School Sports Complex\, Bolton School\, Chorley New Road\, Bolton\, Lancashire\, BL1 4PA\, United Kingdom
CATEGORIES:Bolton Splash Swimming Lessons
ATTACH;FMTTYPE=image/png:https://www.bssleisure.com/wp-content/uploads/2016/11/Bolton-Splash-Swimming-Lessons.png
ORGANIZER;CN="BSS Leisure":MAILTO:info@bssleisure.com
GEO:53.5795607;-2.455146
X-APPLE-STRUCTURED-LOCATION;VALUE=URI;X-ADDRESS=Bolton School Sports Complex Bolton School Chorley New Road Bolton Lancashire BL1 4PA United Kingdom;X-APPLE-RADIUS=500;X-TITLE=Bolton School\, Chorley New Road:geo:-2.455146,53.5795607
END:VEVENT
BEGIN:VEVENT
DTSTART;TZID=Europe/London:20180107T084500
DTEND;TZID=Europe/London:20180107T124500
DTSTAMP:20260423T180257
CREATED:20180116T100048Z
LAST-MODIFIED:20180116T155758Z
UID:10000857-1515314700-1515329100@www.bssleisure.com
SUMMARY:Diddikicks
DESCRIPTION:As well as teaching children the fundamentals of football\, Diddikicks’ team develop invaluable life skills: Sharing\, taking turns\, and listening are all embedded within the carefully planned sessions\, and are as much a part of the football learning concepts as fine tuning a child’s motor skills. \nSpaces are limited due to high demand. To check availability and secure a place\, please contact us directly over the telephone or email. \nContact information for bookings\nT: 0161 3004665 E: info@diddikicks.co.uk\nW: www.diddikicks.co.uk/bolton \n					\nBenefits:					\n\n\nFREE trial session before sign up\nFA qualified coaches\nSmall class sizes\n\n\n					\nPricing Plans:					\n\n\n\nJoining Fee\n–\n£24.99\n\n\nMonthly Fee\n–\n£24.99\n\n\n\n\nView Diddkicks Timetable →      Contact Us
URL:https://www.bssleisure.com/events/diddikicks/2018-01-07/
LOCATION:Bolton School Sports Complex\, Bolton School\, Chorley New Road\, Bolton\, Lancashire\, BL1 4PA\, United Kingdom
CATEGORIES:Diddikicks
ATTACH;FMTTYPE=image/jpeg:https://www.bssleisure.com/wp-content/uploads/2018/01/Diddikicks.jpg
GEO:53.5795607;-2.455146
X-APPLE-STRUCTURED-LOCATION;VALUE=URI;X-ADDRESS=Bolton School Sports Complex Bolton School Chorley New Road Bolton Lancashire BL1 4PA United Kingdom;X-APPLE-RADIUS=500;X-TITLE=Bolton School\, Chorley New Road:geo:-2.455146,53.5795607
END:VEVENT
BEGIN:VEVENT
DTSTART;TZID=Europe/London:20180107T110000
DTEND;TZID=Europe/London:20180107T114500
DTSTAMP:20260423T180257
CREATED:20161220T012356Z
LAST-MODIFIED:20180115T162409Z
UID:10003030-1515322800-1515325500@www.bssleisure.com
SUMMARY:Rookie Lifeguard
DESCRIPTION:Rookie lifeguard sessions teach Rookies how to take care of themselves\, their friends and family and give them the information they need to practice water safety in their day to day activities. The awards contains survival\, rescue and sport skills as well as life support\, CPR and water safety elements – all achieved in a fun exciting way. \nBolton splash encourages Rookie Lifeguards in a progressive pathway through the nine Rookie awards for children swimming at stage 7 and above\, so come and join the Rookie Lifeguard Club now! \nContact information for bookings:\nT: 01204 434797\nE: info@bssleisure.com \n					\nBenefits:					\n\n\nLife-Saving Skill\nWater Confidence\nLeadership\n\n\n					\nPricing Plans:					\n\n\n\n10 Week Term – Sundays\n–\n£50\n\n\n\n					\nInstructors:					\n\n		\n								\n		\n		\n							Nathan Grant					\n					 Swim Teacher \n							info@bssleisure.com\n							Tel: 01204 434797\n				\n					\n	\n	\n\n\nView Rookie Timetable →      Contact Us
URL:https://www.bssleisure.com/events/rookie-lifeguard-gold/2018-01-07/
LOCATION:Bolton School Sports Complex\, Bolton School\, Chorley New Road\, Bolton\, Lancashire\, BL1 4PA\, United Kingdom
CATEGORIES:Rookie Lifeguard
ATTACH;FMTTYPE=image/png:https://www.bssleisure.com/wp-content/uploads/2016/11/Rookie-Lifeguard.png
ORGANIZER;CN="BSS Leisure":MAILTO:info@bssleisure.com
GEO:53.5795607;-2.455146
X-APPLE-STRUCTURED-LOCATION;VALUE=URI;X-ADDRESS=Bolton School Sports Complex Bolton School Chorley New Road Bolton Lancashire BL1 4PA United Kingdom;X-APPLE-RADIUS=500;X-TITLE=Bolton School\, Chorley New Road:geo:-2.455146,53.5795607
END:VEVENT
BEGIN:VEVENT
DTSTART;TZID=Europe/London:20180107T140000
DTEND;TZID=Europe/London:20180107T150000
DTSTAMP:20260423T180257
CREATED:20161220T021613Z
LAST-MODIFIED:20180122T135607Z
UID:10000004-1515333600-1515337200@www.bssleisure.com
SUMMARY:Public Family Swimming
DESCRIPTION:Come and enjoy the use of our pool during your leisure time. \nOffer: Completely free to those who attend our Bolton Splash swimming lessons! \nTo book and for further information:\nPhone: 01204 434797\nEmail: info@bssleisure.com \n					\nBenefits:					\n\n\nLife-Saving Skill\nWater Confidence\nStamina building\n\n\n					\nPricing Plan:					\n\n\n\nAdult\n–\n£4.50\n\n\nChild (Under-16)\n–\n£1.90\n\n\nSundays – 14:00 – 15:00\n–\n£4.50/1.90\n\n\n\n\nView Family Swimming Timetable →      Contact Us
URL:https://www.bssleisure.com/events/public-family-swimming/2018-01-07/
LOCATION:Bolton School Sports Complex\, Bolton School\, Chorley New Road\, Bolton\, Lancashire\, BL1 4PA\, United Kingdom
CATEGORIES:Family Swimming
ATTACH;FMTTYPE=image/png:https://www.bssleisure.com/wp-content/uploads/2016/11/Public-Family-Swimming.png
ORGANIZER;CN="BSS Leisure":MAILTO:info@bssleisure.com
GEO:53.5795607;-2.455146
X-APPLE-STRUCTURED-LOCATION;VALUE=URI;X-ADDRESS=Bolton School Sports Complex Bolton School Chorley New Road Bolton Lancashire BL1 4PA United Kingdom;X-APPLE-RADIUS=500;X-TITLE=Bolton School\, Chorley New Road:geo:-2.455146,53.5795607
END:VEVENT
BEGIN:VEVENT
DTSTART;TZID=Europe/London:20180107T194500
DTEND;TZID=Europe/London:20180107T203000
DTSTAMP:20260423T180257
CREATED:20161220T015356Z
LAST-MODIFIED:20230609T100721Z
UID:10003075-1515354300-1515357000@www.bssleisure.com
SUMMARY:Mini Water Polo
DESCRIPTION:Mini Water Polo is a child friendly version of the sport and introduces participants to the basic skills of water polo; combining both ball and swimming skills\, in addition to team work\, which are transferable across a range of sports. \nTo book and for further information:\nPhone: 01204 434797\nEmail: info@bssleisure.com \n					\nBenefits:					\n\n\nWater Confidence\nSwimming Skills\nBall Skills\nTeam Work Activity\nStamina Building\n\n\n					\nPricing Plans:					\n\n\n\n10 Week Term\n–\n£70\n\n\nTuesdays – 19:45 – 20:30\n–\n£70\n\n\n\n					\nInstructors:					\n\n		\n								\n		\n		\n							Nathan Grant					\n					 Swim Teacher \n							info@bssleisure.com\n							Tel: 01204 434797\n				\n					\n	\n	\n\n\nView Mini Water Polo Timetable →      Contact Us
URL:https://www.bssleisure.com/events/mini-water-polo/2018-01-07/
LOCATION:Bolton School Sports Complex\, Bolton School\, Chorley New Road\, Bolton\, Lancashire\, BL1 4PA\, United Kingdom
CATEGORIES:Mini Water Polo
ATTACH;FMTTYPE=image/png:https://www.bssleisure.com/wp-content/uploads/2016/11/Mini-Water-Polo.png
ORGANIZER;CN="BSS Leisure":MAILTO:info@bssleisure.com
GEO:53.5795607;-2.455146
X-APPLE-STRUCTURED-LOCATION;VALUE=URI;X-ADDRESS=Bolton School Sports Complex Bolton School Chorley New Road Bolton Lancashire BL1 4PA United Kingdom;X-APPLE-RADIUS=500;X-TITLE=Bolton School\, Chorley New Road:geo:-2.455146,53.5795607
END:VEVENT
END:VCALENDAR