BEGIN:VCALENDAR
VERSION:2.0
PRODID:-//Bolton School Sports Leisure Services - ECPv6.15.15//NONSGML v1.0//EN
CALSCALE:GREGORIAN
METHOD:PUBLISH
X-WR-CALNAME:Bolton School Sports Leisure Services
X-ORIGINAL-URL:https://www.bssleisure.com
X-WR-CALDESC:Events for Bolton School Sports Leisure Services
REFRESH-INTERVAL;VALUE=DURATION:PT1H
X-Robots-Tag:noindex
X-PUBLISHED-TTL:PT1H
BEGIN:VTIMEZONE
TZID:Europe/London
BEGIN:DAYLIGHT
TZOFFSETFROM:+0000
TZOFFSETTO:+0100
TZNAME:BST
DTSTART:20160327T010000
END:DAYLIGHT
BEGIN:STANDARD
TZOFFSETFROM:+0100
TZOFFSETTO:+0000
TZNAME:GMT
DTSTART:20161030T010000
END:STANDARD
BEGIN:DAYLIGHT
TZOFFSETFROM:+0000
TZOFFSETTO:+0100
TZNAME:BST
DTSTART:20170326T010000
END:DAYLIGHT
BEGIN:STANDARD
TZOFFSETFROM:+0100
TZOFFSETTO:+0000
TZNAME:GMT
DTSTART:20171029T010000
END:STANDARD
BEGIN:DAYLIGHT
TZOFFSETFROM:+0000
TZOFFSETTO:+0100
TZNAME:BST
DTSTART:20180325T010000
END:DAYLIGHT
BEGIN:STANDARD
TZOFFSETFROM:+0100
TZOFFSETTO:+0000
TZNAME:GMT
DTSTART:20181028T010000
END:STANDARD
END:VTIMEZONE
BEGIN:VEVENT
DTSTART;TZID=Europe/London:20171223T080000
DTEND;TZID=Europe/London:20171223T170000
DTSTAMP:20260426T020518
CREATED:20161219T231543Z
LAST-MODIFIED:20180115T150857Z
UID:10002537-1514016000-1514048400@www.bssleisure.com
SUMMARY:Stage Coach
DESCRIPTION:Stagecoach Performing Arts School offers acting\, singing and dancing classes for children aged 4-18. Every student participates in all three performing arts disciplines\, helping to develop confidence\, physical awareness\, communication and articulation – as well as being educational and lots of fun! In addition\, opportunities exist for students to be offered professional work in film\, theater and modelling by the Stagecoach Agency. \nTo book and for further information:\nPhone: 01254 406279\nEmail: bolton@stagecoach.co.uk\nWebsite: www.stagecoach.co.uk/bolton \n					\nBenefits:					\n\n\nBuilds confidence\nDeveloping performing arts skills\nPhysical awareness\nSocialisation\n\n\n					\nPricing Plans:					\n\n\n\nAge 4-6 – 12 Week Term – 90 Minutes/Week\n–\n£165\n\n\nAge 6-15 – 12 Week Term – 3 Hours/Week\n–\n£330\n\n\nAge 15-18 – 12 Week Term – 3 Hours/Week\n–\n£330\n\n\n\n					\nInstructors:					\n\n		\n								\n		\n		\n							Kimberley Riley-Shipperbottom					\n					 Stage Coach Principle \n							bolton@stagecoach.co.uk\n							Tel: 01254 406279\n				\n					\n	\n	\n\n\n		\n								\n		\n		\n							Charlotte Gilbertson					\n							bolton@stagecoach.co.uk\n							Tel: 01254 406279\n				\n					\n	\n	\n\n\n		\n								\n		\n		\n							Laura Grannell					\n							bolton@stagecoach.co.uk\n							Tel: 01254 406279\n				\n					\n	\n	\n\n\n		\n								\n		\n		\n							Rachel Whithead					\n							bolton@stagecoach.co.uk\n							Tel: 01254 406279\n				\n					\n	\n	\n\n\n		\n								\n		\n		\n							Danielle Hutchinson					\n							bolton@stagecoach.co.uk\n							Tel: 01254 406279\n				\n					\n	\n	\n\n\n		\n								\n		\n		\n							Charlotte Singleton					\n							bolton@stagecoach.co.uk\n							Tel: 01254 406279\n				\n					\n	\n	\n\n\n		\n								\n		\n		\n							Katheryn Hatton					\n							bolton@stagecoach.co.uk\n							Tel: 01254 406279\n				\n					\n	\n	\n\n\nView Stage Coach Timetable →      Contact Us
URL:https://www.bssleisure.com/events/stage-coach/2017-12-23/
LOCATION:Bolton School Sports Complex\, Bolton School\, Chorley New Road\, Bolton\, Lancashire\, BL1 4PA\, United Kingdom
CATEGORIES:Stage Coach
ATTACH;FMTTYPE=image/png:https://www.bssleisure.com/wp-content/uploads/2016/12/Stage-Coach.png
ORGANIZER;CN="BSS Leisure":MAILTO:info@bssleisure.com
GEO:53.5795607;-2.455146
X-APPLE-STRUCTURED-LOCATION;VALUE=URI;X-ADDRESS=Bolton School Sports Complex Bolton School Chorley New Road Bolton Lancashire BL1 4PA United Kingdom;X-APPLE-RADIUS=500;X-TITLE=Bolton School\, Chorley New Road:geo:-2.455146,53.5795607
END:VEVENT
BEGIN:VEVENT
DTSTART;TZID=Europe/London:20171223T123000
DTEND;TZID=Europe/London:20171223T133000
DTSTAMP:20260426T020518
CREATED:20170608T115702Z
LAST-MODIFIED:20170608T115702Z
UID:10003139-1514032200-1514035800@www.bssleisure.com
SUMMARY:Showcase
DESCRIPTION:Showcase offers students the opportunity to explore their creative nature and partake in a performance\, shared with parents at the end of term. Scripts\, dance routines and acting scenes will be developed and rehearsed within the showcase sessions. \nBooking is essential as spaces are limited. Please contact us directly to check availability and secure your place. \nContact information for bookings:\nT: 01204 434797\nE: info@bssleisure.com \n					\nBenefits:\n					\n\n\nFun Fitness\nModern Technique\nExciting Routines\nTeam & Solo Work\nConfidence Building\n\n\n					\nPrice Plans:\n					\n\n\n\n1 Session\n–\n£6.50\n\n\n6 Week Term\n–\n£30\n\n\nSaturdays – 12:30 – 13:30\n–\n£6.50/30\nBUY\n\n\n\n					\nInstructor\n					\n\n		\n								\n		\n		\n							Hannah Rankin					\n					 Dance & Drama Coach \n							info@bssleisure.com\n							01204 434797\n				\n					\n	\n	\n\n\nView Showcase Timetable → Book Now Contact Us
URL:https://www.bssleisure.com/events/showcase/2017-12-23/
LOCATION:Bolton School Sports Complex\, Bolton School\, Chorley New Road\, Bolton\, Lancashire\, BL1 4PA\, United Kingdom
ATTACH;FMTTYPE=image/png:https://www.bssleisure.com/wp-content/uploads/2016/11/Theatre-Works.png
ORGANIZER;CN="BSS Leisure":MAILTO:info@bssleisure.com
GEO:53.5795607;-2.455146
X-APPLE-STRUCTURED-LOCATION;VALUE=URI;X-ADDRESS=Bolton School Sports Complex Bolton School Chorley New Road Bolton Lancashire BL1 4PA United Kingdom;X-APPLE-RADIUS=500;X-TITLE=Bolton School\, Chorley New Road:geo:-2.455146,53.5795607
END:VEVENT
END:VCALENDAR