BEGIN:VCALENDAR
VERSION:2.0
PRODID:-//Bolton School Sports Leisure Services - ECPv6.15.15//NONSGML v1.0//EN
CALSCALE:GREGORIAN
METHOD:PUBLISH
X-WR-CALNAME:Bolton School Sports Leisure Services
X-ORIGINAL-URL:https://www.bssleisure.com
X-WR-CALDESC:Events for Bolton School Sports Leisure Services
REFRESH-INTERVAL;VALUE=DURATION:PT1H
X-Robots-Tag:noindex
X-PUBLISHED-TTL:PT1H
BEGIN:VTIMEZONE
TZID:Europe/London
BEGIN:DAYLIGHT
TZOFFSETFROM:+0000
TZOFFSETTO:+0100
TZNAME:BST
DTSTART:20160327T010000
END:DAYLIGHT
BEGIN:STANDARD
TZOFFSETFROM:+0100
TZOFFSETTO:+0000
TZNAME:GMT
DTSTART:20161030T010000
END:STANDARD
BEGIN:DAYLIGHT
TZOFFSETFROM:+0000
TZOFFSETTO:+0100
TZNAME:BST
DTSTART:20170326T010000
END:DAYLIGHT
BEGIN:STANDARD
TZOFFSETFROM:+0100
TZOFFSETTO:+0000
TZNAME:GMT
DTSTART:20171029T010000
END:STANDARD
BEGIN:DAYLIGHT
TZOFFSETFROM:+0000
TZOFFSETTO:+0100
TZNAME:BST
DTSTART:20180325T010000
END:DAYLIGHT
BEGIN:STANDARD
TZOFFSETFROM:+0100
TZOFFSETTO:+0000
TZNAME:GMT
DTSTART:20181028T010000
END:STANDARD
END:VTIMEZONE
BEGIN:VEVENT
DTSTART;TZID=Europe/London:20171111T080000
DTEND;TZID=Europe/London:20171111T170000
DTSTAMP:20260423T192753
CREATED:20161219T231543Z
LAST-MODIFIED:20180115T150857Z
UID:10002531-1510387200-1510419600@www.bssleisure.com
SUMMARY:Stage Coach
DESCRIPTION:Stagecoach Performing Arts School offers acting\, singing and dancing classes for children aged 4-18. Every student participates in all three performing arts disciplines\, helping to develop confidence\, physical awareness\, communication and articulation – as well as being educational and lots of fun! In addition\, opportunities exist for students to be offered professional work in film\, theater and modelling by the Stagecoach Agency. \nTo book and for further information:\nPhone: 01254 406279\nEmail: bolton@stagecoach.co.uk\nWebsite: www.stagecoach.co.uk/bolton \n					\nBenefits:					\n\n\nBuilds confidence\nDeveloping performing arts skills\nPhysical awareness\nSocialisation\n\n\n					\nPricing Plans:					\n\n\n\nAge 4-6 – 12 Week Term – 90 Minutes/Week\n–\n£165\n\n\nAge 6-15 – 12 Week Term – 3 Hours/Week\n–\n£330\n\n\nAge 15-18 – 12 Week Term – 3 Hours/Week\n–\n£330\n\n\n\n					\nInstructors:					\n\n		\n								\n		\n		\n							Kimberley Riley-Shipperbottom					\n					 Stage Coach Principle \n							bolton@stagecoach.co.uk\n							Tel: 01254 406279\n				\n					\n	\n	\n\n\n		\n								\n		\n		\n							Charlotte Gilbertson					\n							bolton@stagecoach.co.uk\n							Tel: 01254 406279\n				\n					\n	\n	\n\n\n		\n								\n		\n		\n							Laura Grannell					\n							bolton@stagecoach.co.uk\n							Tel: 01254 406279\n				\n					\n	\n	\n\n\n		\n								\n		\n		\n							Rachel Whithead					\n							bolton@stagecoach.co.uk\n							Tel: 01254 406279\n				\n					\n	\n	\n\n\n		\n								\n		\n		\n							Danielle Hutchinson					\n							bolton@stagecoach.co.uk\n							Tel: 01254 406279\n				\n					\n	\n	\n\n\n		\n								\n		\n		\n							Charlotte Singleton					\n							bolton@stagecoach.co.uk\n							Tel: 01254 406279\n				\n					\n	\n	\n\n\n		\n								\n		\n		\n							Katheryn Hatton					\n							bolton@stagecoach.co.uk\n							Tel: 01254 406279\n				\n					\n	\n	\n\n\nView Stage Coach Timetable →      Contact Us
URL:https://www.bssleisure.com/events/stage-coach/2017-11-11/
LOCATION:Bolton School Sports Complex\, Bolton School\, Chorley New Road\, Bolton\, Lancashire\, BL1 4PA\, United Kingdom
CATEGORIES:Stage Coach
ATTACH;FMTTYPE=image/png:https://www.bssleisure.com/wp-content/uploads/2016/12/Stage-Coach.png
ORGANIZER;CN="BSS Leisure":MAILTO:info@bssleisure.com
GEO:53.5795607;-2.455146
X-APPLE-STRUCTURED-LOCATION;VALUE=URI;X-ADDRESS=Bolton School Sports Complex Bolton School Chorley New Road Bolton Lancashire BL1 4PA United Kingdom;X-APPLE-RADIUS=500;X-TITLE=Bolton School\, Chorley New Road:geo:-2.455146,53.5795607
END:VEVENT
BEGIN:VEVENT
DTSTART;TZID=Europe/London:20171111T090000
DTEND;TZID=Europe/London:20171111T100000
DTSTAMP:20260423T192753
CREATED:20170608T111336Z
LAST-MODIFIED:20170608T160545Z
UID:10003095-1510390800-1510394400@www.bssleisure.com
SUMMARY:Singing
DESCRIPTION:This class allows students to explore performing as an ensemble as well as being given the opportunity to work with solo and duet material. Students will be introduced to songs from popular musicals\, which will be practiced throughout the term in order to work towards a small informal sharing with parents. \nBooking is essential as spaces are limited. Please contact us directly to check availability and secure your place. \nContact information for bookings:\nT: 01204 434797\nE: info@bssleisure.com \n					\nBenefits:					\n\n\nEnsemble’s\nSolo’s\nDuet’s\nConfidence Building\n\n\n					\nPricing Plans:					\n\n\n\n1 Session\n–\n£6.50\n\n\n6 Week Term\n–\n£30\n\n\nSaturdays – 09:00 – 10:00\n–\n£6.50/30\nBUY\n\n\n\n		\n							\n						\n				\nInstructors:			\n			\n					\n	\n\n		\n								\n		\n		\n							Hannah Rankin					\n					 Dance & Drama Coach \n							info@bssleisure.com\n							01204 434797\n				\n					\n	\n	\n\n\nView Singing Timetable →      Book Now      Contact Us
URL:https://www.bssleisure.com/events/singing-2/2017-11-11/
LOCATION:Bolton School Sports Complex\, Bolton School\, Chorley New Road\, Bolton\, Lancashire\, BL1 4PA\, United Kingdom
ATTACH;FMTTYPE=image/png:https://www.bssleisure.com/wp-content/uploads/2016/11/Singing-Stars-1.png
ORGANIZER;CN="BSS Leisure":MAILTO:info@bssleisure.com
GEO:53.5795607;-2.455146
X-APPLE-STRUCTURED-LOCATION;VALUE=URI;X-ADDRESS=Bolton School Sports Complex Bolton School Chorley New Road Bolton Lancashire BL1 4PA United Kingdom;X-APPLE-RADIUS=500;X-TITLE=Bolton School\, Chorley New Road:geo:-2.455146,53.5795607
END:VEVENT
BEGIN:VEVENT
DTSTART;TZID=Europe/London:20171111T100000
DTEND;TZID=Europe/London:20171111T230000
DTSTAMP:20260423T192753
CREATED:20170608T145751Z
LAST-MODIFIED:20170608T160844Z
UID:10003266-1510394400-1510441200@www.bssleisure.com
SUMMARY:Drama
DESCRIPTION:Classes explore several key aspects of theatre and performance. Within the classes students will be exploring physical theatre\, role play and devising material both independently and as a group. Students will explore characterisation through improvisation as well as learning key scenes from different musicals in order to develop a wide range of experience\, increasing their confidence through performance. \nBooking is essential as spaces are limited. Please contact us directly to check availability and secure your place. \nContact information for bookings:\nT: 01204 434797\nE: info@bssleisure.com \n					\nBenefits:					\n\nExplore Physical Theatre\nIndependent & Group Work\nConfidence building\n\n					\nPrice Plans:					\n\n\n\n1 Session\n–\n£6.50\n\n\n6 Week Term\n–\n£30\n\n\nSaturdays – 10:00 – 11:00\n–\n£6.50/30\nBUY\n\n\n\n					\nInstructor:					\n\n		\n								\n		\n		\n							Hannah Rankin					\n					 Dance & Drama Coach \n							info@bssleisure.com\n							01204 434797\n				\n					\n	\n	\n\n\nView Drama Timetable → Book Now Contact Us
URL:https://www.bssleisure.com/events/drama-2/2017-11-11/
LOCATION:Bolton School Sports Complex\, Bolton School\, Chorley New Road\, Bolton\, Lancashire\, BL1 4PA\, United Kingdom
ATTACH;FMTTYPE=image/png:https://www.bssleisure.com/wp-content/uploads/2016/11/Drama-BSS-Academy-4.png
ORGANIZER;CN="BSS Leisure":MAILTO:info@bssleisure.com
GEO:53.5795607;-2.455146
X-APPLE-STRUCTURED-LOCATION;VALUE=URI;X-ADDRESS=Bolton School Sports Complex Bolton School Chorley New Road Bolton Lancashire BL1 4PA United Kingdom;X-APPLE-RADIUS=500;X-TITLE=Bolton School\, Chorley New Road:geo:-2.455146,53.5795607
END:VEVENT
BEGIN:VEVENT
DTSTART;TZID=Europe/London:20171111T110000
DTEND;TZID=Europe/London:20171111T110000
DTSTAMP:20260423T192753
CREATED:20170608T113607Z
LAST-MODIFIED:20170608T161502Z
UID:10003115-1510398000-1510398000@www.bssleisure.com
SUMMARY:Dance
DESCRIPTION:Dance offers students the chance to engage with learning and devise their own movement material. Within classes children will learn 2/3 small routines before they are incorporated rehearsed throughout the session. Students will engage in some basic technical exercises which will be performed as a warm up exercise at the beginning of every class. \nBooking is essential as spaces are limited. Please contact us directly to check availability and secure your place. \nContact information for bookings:\nT: 01204 434797\nE: info@bssleisure.com \n					\nBenefits:					\n\n\nFun Warm Up Exercises\nExciting Routines\nTeam & Solo Work\nConfidence Building\n\n\n					\nPrice Plans:					\n\n\n\n1 Session\n–\n£6.50\n\n\n6 Week Term\n–\n£30\n\n\nSaturdays – 11:00 – 12:00\n–\n£6.50/30\nBUY\n\n\n\n					\nInstructor:					\n\n		\n								\n		\n		\n							Hannah Rankin					\n					 Dance & Drama Coach \n							info@bssleisure.com\n							01204 434797\n				\n					\n	\n	\n\n\nView Dance Timetable →      Book Now      Contact Us
URL:https://www.bssleisure.com/events/dance-2/2017-11-11/
LOCATION:Bolton School Sports Complex\, Bolton School\, Chorley New Road\, Bolton\, Lancashire\, BL1 4PA\, United Kingdom
ATTACH;FMTTYPE=image/png:https://www.bssleisure.com/wp-content/uploads/2016/11/Street-Dance.png
ORGANIZER;CN="BSS Leisure":MAILTO:info@bssleisure.com
GEO:53.5795607;-2.455146
X-APPLE-STRUCTURED-LOCATION;VALUE=URI;X-ADDRESS=Bolton School Sports Complex Bolton School Chorley New Road Bolton Lancashire BL1 4PA United Kingdom;X-APPLE-RADIUS=500;X-TITLE=Bolton School\, Chorley New Road:geo:-2.455146,53.5795607
END:VEVENT
BEGIN:VEVENT
DTSTART;TZID=Europe/London:20171111T123000
DTEND;TZID=Europe/London:20171111T133000
DTSTAMP:20260423T192753
CREATED:20170608T115702Z
LAST-MODIFIED:20170608T115702Z
UID:10003134-1510403400-1510407000@www.bssleisure.com
SUMMARY:Showcase
DESCRIPTION:Showcase offers students the opportunity to explore their creative nature and partake in a performance\, shared with parents at the end of term. Scripts\, dance routines and acting scenes will be developed and rehearsed within the showcase sessions. \nBooking is essential as spaces are limited. Please contact us directly to check availability and secure your place. \nContact information for bookings:\nT: 01204 434797\nE: info@bssleisure.com \n					\nBenefits:\n					\n\n\nFun Fitness\nModern Technique\nExciting Routines\nTeam & Solo Work\nConfidence Building\n\n\n					\nPrice Plans:\n					\n\n\n\n1 Session\n–\n£6.50\n\n\n6 Week Term\n–\n£30\n\n\nSaturdays – 12:30 – 13:30\n–\n£6.50/30\nBUY\n\n\n\n					\nInstructor\n					\n\n		\n								\n		\n		\n							Hannah Rankin					\n					 Dance & Drama Coach \n							info@bssleisure.com\n							01204 434797\n				\n					\n	\n	\n\n\nView Showcase Timetable → Book Now Contact Us
URL:https://www.bssleisure.com/events/showcase/2017-11-11/
LOCATION:Bolton School Sports Complex\, Bolton School\, Chorley New Road\, Bolton\, Lancashire\, BL1 4PA\, United Kingdom
ATTACH;FMTTYPE=image/png:https://www.bssleisure.com/wp-content/uploads/2016/11/Theatre-Works.png
ORGANIZER;CN="BSS Leisure":MAILTO:info@bssleisure.com
GEO:53.5795607;-2.455146
X-APPLE-STRUCTURED-LOCATION;VALUE=URI;X-ADDRESS=Bolton School Sports Complex Bolton School Chorley New Road Bolton Lancashire BL1 4PA United Kingdom;X-APPLE-RADIUS=500;X-TITLE=Bolton School\, Chorley New Road:geo:-2.455146,53.5795607
END:VEVENT
END:VCALENDAR