BEGIN:VCALENDAR
VERSION:2.0
PRODID:-//Bolton School Sports Leisure Services - ECPv6.15.15//NONSGML v1.0//EN
CALSCALE:GREGORIAN
METHOD:PUBLISH
X-ORIGINAL-URL:https://www.bssleisure.com
X-WR-CALDESC:Events for Bolton School Sports Leisure Services
REFRESH-INTERVAL;VALUE=DURATION:PT1H
X-Robots-Tag:noindex
X-PUBLISHED-TTL:PT1H
BEGIN:VTIMEZONE
TZID:Europe/London
BEGIN:DAYLIGHT
TZOFFSETFROM:+0000
TZOFFSETTO:+0100
TZNAME:BST
DTSTART:20160327T010000
END:DAYLIGHT
BEGIN:STANDARD
TZOFFSETFROM:+0100
TZOFFSETTO:+0000
TZNAME:GMT
DTSTART:20161030T010000
END:STANDARD
BEGIN:DAYLIGHT
TZOFFSETFROM:+0000
TZOFFSETTO:+0100
TZNAME:BST
DTSTART:20170326T010000
END:DAYLIGHT
BEGIN:STANDARD
TZOFFSETFROM:+0100
TZOFFSETTO:+0000
TZNAME:GMT
DTSTART:20171029T010000
END:STANDARD
BEGIN:DAYLIGHT
TZOFFSETFROM:+0000
TZOFFSETTO:+0100
TZNAME:BST
DTSTART:20180325T010000
END:DAYLIGHT
BEGIN:STANDARD
TZOFFSETFROM:+0100
TZOFFSETTO:+0000
TZNAME:GMT
DTSTART:20181028T010000
END:STANDARD
END:VTIMEZONE
BEGIN:VEVENT
DTSTART;TZID=Europe/London:20170429T080000
DTEND;TZID=Europe/London:20170429T170000
DTSTAMP:20260426T013956
CREATED:20161219T231543Z
LAST-MODIFIED:20180115T150857Z
UID:10002503-1493452800-1493485200@www.bssleisure.com
SUMMARY:Stage Coach
DESCRIPTION:Stagecoach Performing Arts School offers acting\, singing and dancing classes for children aged 4-18. Every student participates in all three performing arts disciplines\, helping to develop confidence\, physical awareness\, communication and articulation – as well as being educational and lots of fun! In addition\, opportunities exist for students to be offered professional work in film\, theater and modelling by the Stagecoach Agency. \nTo book and for further information:\nPhone: 01254 406279\nEmail: bolton@stagecoach.co.uk\nWebsite: www.stagecoach.co.uk/bolton \n					\nBenefits:					\n\n\nBuilds confidence\nDeveloping performing arts skills\nPhysical awareness\nSocialisation\n\n\n					\nPricing Plans:					\n\n\n\nAge 4-6 – 12 Week Term – 90 Minutes/Week\n–\n£165\n\n\nAge 6-15 – 12 Week Term – 3 Hours/Week\n–\n£330\n\n\nAge 15-18 – 12 Week Term – 3 Hours/Week\n–\n£330\n\n\n\n					\nInstructors:					\n\n		\n								\n		\n		\n							Kimberley Riley-Shipperbottom					\n					 Stage Coach Principle \n							bolton@stagecoach.co.uk\n							Tel: 01254 406279\n				\n					\n	\n	\n\n\n		\n								\n		\n		\n							Charlotte Gilbertson					\n							bolton@stagecoach.co.uk\n							Tel: 01254 406279\n				\n					\n	\n	\n\n\n		\n								\n		\n		\n							Laura Grannell					\n							bolton@stagecoach.co.uk\n							Tel: 01254 406279\n				\n					\n	\n	\n\n\n		\n								\n		\n		\n							Rachel Whithead					\n							bolton@stagecoach.co.uk\n							Tel: 01254 406279\n				\n					\n	\n	\n\n\n		\n								\n		\n		\n							Danielle Hutchinson					\n							bolton@stagecoach.co.uk\n							Tel: 01254 406279\n				\n					\n	\n	\n\n\n		\n								\n		\n		\n							Charlotte Singleton					\n							bolton@stagecoach.co.uk\n							Tel: 01254 406279\n				\n					\n	\n	\n\n\n		\n								\n		\n		\n							Katheryn Hatton					\n							bolton@stagecoach.co.uk\n							Tel: 01254 406279\n				\n					\n	\n	\n\n\nView Stage Coach Timetable →      Contact Us
URL:https://www.bssleisure.com/events/stage-coach/2017-04-29/
LOCATION:Bolton School Sports Complex\, Bolton School\, Chorley New Road\, Bolton\, Lancashire\, BL1 4PA\, United Kingdom
CATEGORIES:Stage Coach
ATTACH;FMTTYPE=image/png:https://www.bssleisure.com/wp-content/uploads/2016/12/Stage-Coach.png
ORGANIZER;CN="BSS Leisure":MAILTO:info@bssleisure.com
GEO:53.5795607;-2.455146
X-APPLE-STRUCTURED-LOCATION;VALUE=URI;X-ADDRESS=Bolton School Sports Complex Bolton School Chorley New Road Bolton Lancashire BL1 4PA United Kingdom;X-APPLE-RADIUS=500;X-TITLE=Bolton School\, Chorley New Road:geo:-2.455146,53.5795607
END:VEVENT
BEGIN:VEVENT
DTSTART;TZID=Europe/London:20170429T093000
DTEND;TZID=Europe/London:20170429T103000
DTSTAMP:20260426T013957
CREATED:20161220T001646Z
LAST-MODIFIED:20170313T130325Z
UID:10002709-1493458200-1493461800@www.bssleisure.com
SUMMARY:Street Dance
DESCRIPTION:Street Dance offers students the chance to engage with learning and devise their own movement material. Within classes children will learn 2/3 small routines before they are incorporated rehearsed throughout the session. Students will engage in some basic technical exercises which will be performed as a warm up exercise at the beginning of every class. \nBooking is essential as spaces are limited. Please contact us directly to check availability and secure your place. \nContact information for bookings:\nT: 01204 434797\nE: info@bssleisure.com \n					\nBenefits:					\n\n\nFun Warm Up Exercises\nExciting Routines\nTeam & Solo Work\nConfidence Building\n\n\n					\nPricing Plans:					\n\n\n\n1 Session\n–\n£4\n\n\nSaturdays – 09:30 – 10:30\n–\n£4\nBUY\n\n\n\n					\nInstructors:					\n\n		\n								\n		\n		\n							Chloe Vose					\n					 DANCE & DRAMA COACH \n							info@bssleisure.com\n							Tel: 01204 434797\n				\n					\n	\n	\n\n\nView Street Dance Course Timetable →      Contact Us
URL:https://www.bssleisure.com/events/street-dance/
LOCATION:Bolton School Sports Complex\, Bolton School\, Chorley New Road\, Bolton\, Lancashire\, BL1 4PA\, United Kingdom
CATEGORIES:Street Dance
ATTACH;FMTTYPE=image/png:https://www.bssleisure.com/wp-content/uploads/2016/11/Street-Dance.png
ORGANIZER;CN="BSS Leisure":MAILTO:info@bssleisure.com
GEO:53.5795607;-2.455146
X-APPLE-STRUCTURED-LOCATION;VALUE=URI;X-ADDRESS=Bolton School Sports Complex Bolton School Chorley New Road Bolton Lancashire BL1 4PA United Kingdom;X-APPLE-RADIUS=500;X-TITLE=Bolton School\, Chorley New Road:geo:-2.455146,53.5795607
END:VEVENT
BEGIN:VEVENT
DTSTART;TZID=Europe/London:20170429T103000
DTEND;TZID=Europe/London:20170429T113000
DTSTAMP:20260426T013957
CREATED:20161220T002931Z
LAST-MODIFIED:20170313T130915Z
UID:10002710-1493461800-1493465400@www.bssleisure.com
SUMMARY:Ballet/Tap
DESCRIPTION:This class offers a mixture of training and is split into two halves\, 30 minutes Ballet and 30 minutes Tap. Within this class\, students will learn the basic principles of the two dance forms\, and we will explore creating and performing small routines. Students will actively engage in technical exercises and will learn how to establish beat and rhythm in Tap. \nBooking is essential as spaces are limited. Please contact us directly to check availability and secure your place. \nContact information for bookings:\nT: 01204 434797\nE: info@bssleisure.com \n					\nBenefits:					\n\n\nLearn Two Dance Forms\nExciting Routines\nTeam & Solo Work\nConfidence Building\n\n\n					\nPricing Plans:					\n\n\n\n1 Session\n–\n£4\n\n\nSaturdays – 10:30 – 11:30\n–\n£4\nBUY\n\n\n\n					\nInstructors:					\n\n		\n								\n		\n		\n							Chloe Vose					\n					 DANCE & DRAMA COACH \n							info@bssleisure.com\n							Tel: 01204 434797\n				\n					\n	\n	\n\n\nView Ballet/Tap Course Timetable →      Contact Us
URL:https://www.bssleisure.com/events/ballettap/
LOCATION:Bolton School Sports Complex\, Bolton School\, Chorley New Road\, Bolton\, Lancashire\, BL1 4PA\, United Kingdom
CATEGORIES:Ballet/Tap
ATTACH;FMTTYPE=image/png:https://www.bssleisure.com/wp-content/uploads/2016/11/Ballet-Tap-Class.png
ORGANIZER;CN="BSS Leisure":MAILTO:info@bssleisure.com
GEO:53.5795607;-2.455146
X-APPLE-STRUCTURED-LOCATION;VALUE=URI;X-ADDRESS=Bolton School Sports Complex Bolton School Chorley New Road Bolton Lancashire BL1 4PA United Kingdom;X-APPLE-RADIUS=500;X-TITLE=Bolton School\, Chorley New Road:geo:-2.455146,53.5795607
END:VEVENT
BEGIN:VEVENT
DTSTART;TZID=Europe/London:20170429T113000
DTEND;TZID=Europe/London:20170429T123000
DTSTAMP:20260426T013957
CREATED:20161220T003404Z
LAST-MODIFIED:20170313T130722Z
UID:10002711-1493465400-1493469000@www.bssleisure.com
SUMMARY:Contemporary Jazz
DESCRIPTION:Contemporary Jazz offers students an alternative\, modern technique. Within this class we will explore how to move in and out of the floor and technical principles\, as well as learning longer phrases of movement\, and creating their own movement as a group. \nBooking is essential as spaces are limited. Please contact us directly to check availability and secure your place. \nContact information for bookings:\nT: 01204 434797\nE: info@bssleisure.com \n					\nBenefits:					\n\n\nFun Fitness\nModern Technique\nExciting Routines\nTeam & Solo Work\nConfidence Building\n\n\n					\nPricing Plans:					\n\n\n\n1 Session\n–\n£4\n\n\nSaturdays – 11:30 – 12:30\n–\n£4\nBUY\n\n\n\n					\nInstructors:					\n\n		\n								\n		\n		\n							Chloe Vose					\n					 DANCE & DRAMA COACH \n							info@bssleisure.com\n							Tel: 01204 434797\n				\n					\n	\n	\n\n\nView Contemporary Jazz Course Timetable →      Contact Us
URL:https://www.bssleisure.com/events/contemporary-jazz/
LOCATION:Bolton School Sports Complex\, Bolton School\, Chorley New Road\, Bolton\, Lancashire\, BL1 4PA\, United Kingdom
CATEGORIES:Contemporary Jazz
ATTACH;FMTTYPE=image/png:https://www.bssleisure.com/wp-content/uploads/2016/11/Contemporary-Jazz-Dance.png
ORGANIZER;CN="BSS Leisure":MAILTO:info@bssleisure.com
GEO:53.5795607;-2.455146
X-APPLE-STRUCTURED-LOCATION;VALUE=URI;X-ADDRESS=Bolton School Sports Complex Bolton School Chorley New Road Bolton Lancashire BL1 4PA United Kingdom;X-APPLE-RADIUS=500;X-TITLE=Bolton School\, Chorley New Road:geo:-2.455146,53.5795607
END:VEVENT
END:VCALENDAR