BEGIN:VCALENDAR
VERSION:2.0
PRODID:-//Bolton School Sports Leisure Services - ECPv6.15.15//NONSGML v1.0//EN
CALSCALE:GREGORIAN
METHOD:PUBLISH
X-ORIGINAL-URL:https://www.bssleisure.com
X-WR-CALDESC:Events for Bolton School Sports Leisure Services
REFRESH-INTERVAL;VALUE=DURATION:PT1H
X-Robots-Tag:noindex
X-PUBLISHED-TTL:PT1H
BEGIN:VTIMEZONE
TZID:Europe/London
BEGIN:DAYLIGHT
TZOFFSETFROM:+0000
TZOFFSETTO:+0100
TZNAME:BST
DTSTART:20160327T010000
END:DAYLIGHT
BEGIN:STANDARD
TZOFFSETFROM:+0100
TZOFFSETTO:+0000
TZNAME:GMT
DTSTART:20161030T010000
END:STANDARD
BEGIN:DAYLIGHT
TZOFFSETFROM:+0000
TZOFFSETTO:+0100
TZNAME:BST
DTSTART:20170326T010000
END:DAYLIGHT
BEGIN:STANDARD
TZOFFSETFROM:+0100
TZOFFSETTO:+0000
TZNAME:GMT
DTSTART:20171029T010000
END:STANDARD
BEGIN:DAYLIGHT
TZOFFSETFROM:+0000
TZOFFSETTO:+0100
TZNAME:BST
DTSTART:20180325T010000
END:DAYLIGHT
BEGIN:STANDARD
TZOFFSETFROM:+0100
TZOFFSETTO:+0000
TZNAME:GMT
DTSTART:20181028T010000
END:STANDARD
END:VTIMEZONE
BEGIN:VEVENT
DTSTART;TZID=Europe/London:20170417T090000
DTEND;TZID=Europe/London:20170420T120000
DTSTAMP:20260426T013953
CREATED:20161220T110851Z
LAST-MODIFIED:20161220T110911Z
UID:10000031-1492419600-1492689600@www.bssleisure.com
SUMMARY:Intensive Swimming Lessons
DESCRIPTION:Intensive classes are great value for money. You can book daily 1x hour sessions\, over the course of a week for only £10. Intensives run alongside ASA Level 1 & 2 Swim Teacher courses\, delivered at BSS Leisure during selected holiday periods. Sessions are split into Beginner\, Intermediate and Advanced levels. \n					\nBenefits:					\n\n\nValue for money\nSwimming Practise/Tuition\n\n\n					\nPricing Plans:					\n\n\n\n1 Session\n–\n£10\n\n\n\n\nView Intensive Swimming Timetable →      Contact Us
URL:https://www.bssleisure.com/events/intensive-swimming-lessons-5/
LOCATION:Bolton School Sports Complex\, Bolton School\, Chorley New Road\, Bolton\, Lancashire\, BL1 4PA\, United Kingdom
CATEGORIES:Intensive Swimming Lessons
ATTACH;FMTTYPE=image/png:https://www.bssleisure.com/wp-content/uploads/2016/11/Bolton-Splash-Swimming-Lessons.png
ORGANIZER;CN="BSS Leisure":MAILTO:info@bssleisure.com
GEO:53.5795607;-2.455146
X-APPLE-STRUCTURED-LOCATION;VALUE=URI;X-ADDRESS=Bolton School Sports Complex Bolton School Chorley New Road Bolton Lancashire BL1 4PA United Kingdom;X-APPLE-RADIUS=500;X-TITLE=Bolton School\, Chorley New Road:geo:-2.455146,53.5795607
END:VEVENT
END:VCALENDAR