BEGIN:VCALENDAR
VERSION:2.0
PRODID:-//Bolton School Sports Leisure Services - ECPv6.15.15//NONSGML v1.0//EN
CALSCALE:GREGORIAN
METHOD:PUBLISH
X-ORIGINAL-URL:https://www.bssleisure.com
X-WR-CALDESC:Events for Bolton School Sports Leisure Services
REFRESH-INTERVAL;VALUE=DURATION:PT1H
X-Robots-Tag:noindex
X-PUBLISHED-TTL:PT1H
BEGIN:VTIMEZONE
TZID:Europe/London
BEGIN:DAYLIGHT
TZOFFSETFROM:+0000
TZOFFSETTO:+0100
TZNAME:BST
DTSTART:20160327T010000
END:DAYLIGHT
BEGIN:STANDARD
TZOFFSETFROM:+0100
TZOFFSETTO:+0000
TZNAME:GMT
DTSTART:20161030T010000
END:STANDARD
BEGIN:DAYLIGHT
TZOFFSETFROM:+0000
TZOFFSETTO:+0100
TZNAME:BST
DTSTART:20170326T010000
END:DAYLIGHT
BEGIN:STANDARD
TZOFFSETFROM:+0100
TZOFFSETTO:+0000
TZNAME:GMT
DTSTART:20171029T010000
END:STANDARD
BEGIN:DAYLIGHT
TZOFFSETFROM:+0000
TZOFFSETTO:+0100
TZNAME:BST
DTSTART:20180325T010000
END:DAYLIGHT
BEGIN:STANDARD
TZOFFSETFROM:+0100
TZOFFSETTO:+0000
TZNAME:GMT
DTSTART:20181028T010000
END:STANDARD
END:VTIMEZONE
BEGIN:VEVENT
DTSTART;TZID=Europe/London:20170408T080000
DTEND;TZID=Europe/London:20170415T170000
DTSTAMP:20260426T014934
CREATED:20161209T205555Z
LAST-MODIFIED:20161209T210041Z
UID:10002251-1491638400-1492275600@www.bssleisure.com
SUMMARY:ASA Level 2 Teaching Aquatics
DESCRIPTION:The ASA Level 2 Swimming Teacher qualification is a practical qualification\, which develops the knowledge\, skills and abilities needed to be a Swimming Teacher. \nThis qualification builds on the knowledge\, skills and abilities developed in the ASA Level 1 Swimming Assistant (Teaching) qualification. When achieved it ensures swimming teachers can effectively and independently plan\, prepare\, deliver\, monitor and evaluate a series of swimming teaching lessons. \nTo Book and for further information:\nPhone: 01204 434797\nEmail: info@bssleisure.com \n					\nBenefits:					\n\n\nLearn how to prepare for sessions\nGain confidence delivering lessons\nBecome a qualified swim teacher\n\n\n					\nPricing Plans:					\n\n\n\nPer Candidate\n–\n£680\n\n\n\n					\nInstructors:					\n\n		\n								\n		\n		\n							Dianne Lewis					\n							info@bssleisure.com\n							Tel: 01204 434797
URL:https://www.bssleisure.com/events/asa-level-2-teaching-aquatics/
LOCATION:Bolton School Sports Complex\, Bolton School\, Chorley New Road\, Bolton\, Lancashire\, BL1 4PA\, United Kingdom
CATEGORIES:ASA Level 2 Teaching Aquatics
ATTACH;FMTTYPE=image/png:https://www.bssleisure.com/wp-content/uploads/2016/11/Rookie-Lifeguard.png
ORGANIZER;CN="BSS Leisure":MAILTO:info@bssleisure.com
GEO:53.5795607;-2.455146
X-APPLE-STRUCTURED-LOCATION;VALUE=URI;X-ADDRESS=Bolton School Sports Complex Bolton School Chorley New Road Bolton Lancashire BL1 4PA United Kingdom;X-APPLE-RADIUS=500;X-TITLE=Bolton School\, Chorley New Road:geo:-2.455146,53.5795607
END:VEVENT
BEGIN:VEVENT
DTSTART;TZID=Europe/London:20170410T080000
DTEND;TZID=Europe/London:20170413T170000
DTSTAMP:20260426T014934
CREATED:20161113T010722Z
LAST-MODIFIED:20161206T224207Z
UID:10001977-1491811200-1492102800@www.bssleisure.com
SUMMARY:ASA Level 1 Swimming Assistant
DESCRIPTION:The ASA Level 1 Swimming Assistant (Teaching) qualification is a practical qualification\, which develops the knowledge\, skills and abilities needed to be a Swimming Assistant (Teaching). \n					\nBenefits:					\n\n\nDevelop your water knowledge\nTake the first step to becoming a swim teacher\n\n\n					\nPricing Plans:					\n\n\n\nPer Candidate\n–\n£395\nBUY\n\n\n\n					\nInstructors:					\n\n		\n								\n		\n		\n							Dianne Lewis					\n							info@bssleisure.com\n							Tel: 01204 434797
URL:https://www.bssleisure.com/events/asa-level-1-swimming-assistant-2/
LOCATION:Bolton School Sports Complex\, Bolton School\, Chorley New Road\, Bolton\, Lancashire\, BL1 4PA\, United Kingdom
CATEGORIES:ASA Level 1 Swimming Assistant
ATTACH;FMTTYPE=image/png:https://www.bssleisure.com/wp-content/uploads/2016/11/Rookie-Lifeguard.png
ORGANIZER;CN="BSS Leisure":MAILTO:info@bssleisure.com
GEO:53.5795607;-2.455146
X-APPLE-STRUCTURED-LOCATION;VALUE=URI;X-ADDRESS=Bolton School Sports Complex Bolton School Chorley New Road Bolton Lancashire BL1 4PA United Kingdom;X-APPLE-RADIUS=500;X-TITLE=Bolton School\, Chorley New Road:geo:-2.455146,53.5795607
END:VEVENT
BEGIN:VEVENT
DTSTART;TZID=Europe/London:20170410T090000
DTEND;TZID=Europe/London:20170414T120000
DTSTAMP:20260426T014934
CREATED:20161209T232829Z
LAST-MODIFIED:20161220T110947Z
UID:10002260-1491814800-1492171200@www.bssleisure.com
SUMMARY:Intensive Swimming Lessons
DESCRIPTION:Intensive classes are great value for money. You can book daily 1x hour sessions\, over the course of a week for only £10. Intensives run alongside ASA Level 1 & 2 Swim Teacher courses\, delivered at BSS Leisure during selected holiday periods. Sessions are split into Beginner\, Intermediate and Advanced levels. \n					\nBenefits:					\n\n\nValue for money\nSwimming Practise/Tuition\n\n\n					\nPricing Plans:					\n\n\n\n1 Session\n–\n£10\n\n\n\n\nView Intensive Swimming Timetable →      Contact Us
URL:https://www.bssleisure.com/events/intensive-swimming-lessons-2/
LOCATION:Bolton School Sports Complex\, Bolton School\, Chorley New Road\, Bolton\, Lancashire\, BL1 4PA\, United Kingdom
CATEGORIES:Intensive Swimming Lessons
ATTACH;FMTTYPE=image/png:https://www.bssleisure.com/wp-content/uploads/2016/11/Bolton-Splash-Swimming-Lessons.png
ORGANIZER;CN="BSS Leisure":MAILTO:info@bssleisure.com
GEO:53.5795607;-2.455146
X-APPLE-STRUCTURED-LOCATION;VALUE=URI;X-ADDRESS=Bolton School Sports Complex Bolton School Chorley New Road Bolton Lancashire BL1 4PA United Kingdom;X-APPLE-RADIUS=500;X-TITLE=Bolton School\, Chorley New Road:geo:-2.455146,53.5795607
END:VEVENT
BEGIN:VEVENT
DTSTART;TZID=Europe/London:20170413T093000
DTEND;TZID=Europe/London:20170413T103000
DTSTAMP:20260426T014934
CREATED:20170303T094506Z
LAST-MODIFIED:20180115T143407Z
UID:10000043-1492075800-1492079400@www.bssleisure.com
SUMMARY:Yoga
DESCRIPTION:Classes interweave periods of rest with moderate to challenging movement sequences. Keeping the mind focused upon breathing throughout movement and rest periods\, helps to relax the body and enhances positivity and well being. Learning to listen to your inner responses helps you to adjust your involvement level accordingly during the class. \nSpaces are limited due to high demand. To check availability and secure a place\, please contact us directly over the telephone or email. \nContact information for bookings:\nT: 07983578564\nE: p.narsaipunam@gmail.com \n					\nBenefits:					\n\nRelax the Mind & Body\nEnhanced Positivity\nChallenging Movement Sequences\nBreathing Techniques\n\n					\nPricing Plans:					\n\n\n\n1 Session\n–\n£4\n\n\nThursdays – 19:30 – 20:30\n–\n£4\n\n\n\n					\nInstructors:					\n\n		\n								\n		\n		\n							Priya Narsai-Punam					\n							p.narsaipunam@gmail.com\n							Tel: 079835 78564\n				\n					\n	\n	\n\n\nView Yoga Timetable → Contact Us
URL:https://www.bssleisure.com/events/yoga-2/2017-04-13/
LOCATION:Bolton School Sports Complex\, Bolton School\, Chorley New Road\, Bolton\, Lancashire\, BL1 4PA\, United Kingdom
CATEGORIES:Yoga
ATTACH;FMTTYPE=image/png:https://www.bssleisure.com/wp-content/uploads/2016/11/Yoga.png
ORGANIZER;CN="BSS Leisure":MAILTO:info@bssleisure.com
GEO:53.5795607;-2.455146
X-APPLE-STRUCTURED-LOCATION;VALUE=URI;X-ADDRESS=Bolton School Sports Complex Bolton School Chorley New Road Bolton Lancashire BL1 4PA United Kingdom;X-APPLE-RADIUS=500;X-TITLE=Bolton School\, Chorley New Road:geo:-2.455146,53.5795607
END:VEVENT
END:VCALENDAR